BEGIN:VCALENDAR
PRODID:NingEventWidget-v1
VERSION:2.0
METHOD:PUBLISH
BEGIN:VTIMEZONE
TZID:Europe/London
X-LIC-LOCATION:Europe/London
BEGIN:DAYLIGHT
TZOFFSETFROM:+0000
TZOFFSETTO:+0100
TZNAME:BST
DTSTART:19700329T010000
RRULE:FREQ=YEARLY;BYMONTH=3;BYDAY=-1SU
END:DAYLIGHT
BEGIN:STANDARD
TZOFFSETFROM:+0100
TZOFFSETTO:+0000
TZNAME:GMT
DTSTART:19701025T020000
RRULE:FREQ=YEARLY;BYMONTH=10;BYDAY=-1SU
END:STANDARD
END:VTIMEZONE
BEGIN:VEVENT
UID:4626108:Event:541561
DTSTAMP:20260419T133804Z
SUMMARY:Mole Valley & Surrey Chambers Live! Breakfast, Dorking
DESCRIPTION:Mole Valley & Surrey Chambers Live! Breakfast\r\n\r\nVideo
  For Business Marketing\r\nOur speaker this month is Kat Bhat from Dig
 ital Leopard. Kat will be talking about using video to help promote an
 d market your business.\r\n\r\nIn today’s digital world, video conte
 nt has become a crucial tool for businesses looking to engage, inform,
  and connect with their audience. Whether you are a small business own
 er, a marketing professional, or an entrepreneur, this session will eq
 uip you with practical skills and insights to effectively integrate vi
 deo into your business model.\r\nKey Takeaways:\r\nUnderstanding the I
 mpact of Video: Learn why video is a powerful tool for communication a
 nd marketing.\r\nDeveloping a Video Strategy: Discover how to align vi
 deo content with your business goals. Understand your target audience 
 and how to engage them with video.\r\nTypes of Business Videos: Dive i
 nto various styles of video content: from promotional and educational 
 videos to testimonials and behind-the-scenes looks. Case studies showc
 asing successful video campaigns.\r\nCreating Engaging Content: Tips o
 n how to create engaging, high-quality content on a budget.\r\nTechnic
 al Know-How: Basic shooting techniques to make your videos look profes
 sional.\r\nMaximizing Reach and Engagement: Strategies for effectively
  distributing your videos across different platforms.\r\nQ&A and Netwo
 rking: Opportunity to ask questions and discuss specific video-related
  challenges.\r\nCOST: £15 Mole Valley & Surrey Chambers & Dorking B
 ID Members; £20 Non-Members\r\nBOOKING: Please CLICK HERE to book 
 your place\r\nMAP\r\n\n\nFor more information visit https://networking
 insurrey.co.uk/events/mvc-business-networking-1
DTSTART;TZID=Europe/London:20240417T073000
DTEND;TZID=Europe/London:20240417T093000
CATEGORIES:business, networking
LOCATION:The Watermill
WEBSITE:https://maps.app.goo.gl/ayZJomeAHNeBjf73A
URL:https://maps.app.goo.gl/ayZJomeAHNeBjf73A
CONTACT:07789035553
ORGANIZER;CN="Richard Excell":https://networkinginsurrey.co.uk/profile
 /RichardExcell
ATTACH;FMTTYPE="image/jpeg":https://storage.ning.com/topology/rest/1.0
 /file/get/12238046098?profile=original
ATTENDEE;ROLE=REQ-PARTICIPANT;PARTSTAT=ACCEPTED;RSVP=TRUE;CN="Richard 
 Excell":https://networkinginsurrey.co.uk/profile/RichardExcell
END:VEVENT
END:VCALENDAR
