BEGIN:VCALENDAR
PRODID:NingEventWidget-v1
VERSION:2.0
METHOD:PUBLISH
BEGIN:VTIMEZONE
TZID:Europe/London
X-LIC-LOCATION:Europe/London
BEGIN:DAYLIGHT
TZOFFSETFROM:+0000
TZOFFSETTO:+0100
TZNAME:BST
DTSTART:19700329T010000
RRULE:FREQ=YEARLY;BYMONTH=3;BYDAY=-1SU
END:DAYLIGHT
BEGIN:STANDARD
TZOFFSETFROM:+0100
TZOFFSETTO:+0000
TZNAME:GMT
DTSTART:19701025T020000
RRULE:FREQ=YEARLY;BYMONTH=10;BYDAY=-1SU
END:STANDARD
END:VTIMEZONE
BEGIN:VEVENT
UID:4626108:Event:542954
DTSTAMP:20260422T135837Z
SUMMARY:Mole Valley Chambers Breakfast Live! Dorking
DESCRIPTION:Mole Valley Chamber Breakfast Networking at The Watermill\
 r\n\r\nPlease join us for face-to-face August Breakfast Networking ove
 r a delicious breakfast at The Watermill, Dorking. Remember to bring p
 lenty of business cards with you!\r\nSmall business success blueprint:
  Mastering buyer personas, brand positioning, and social media content
  creation\r\n\r\nJoin us for an insightful and practical session with 
 marketing expert Jack Godby, founder of Headway, as he delves into ess
 ential strategies for small business success. This event will cover th
 ree key areas:\r\n1. Developing a Buyer Persona (and Why): Learn how t
 o identify and understand your ideal customer, creating a detailed buy
 er persona that informs all your marketing efforts. Discover why this 
 is a crucial step in tailoring your approach and driving engagement.\r
 \n2. Positioning Your Brand to Stand Out from the Competition: Jack wi
 ll share actionable tips on how to differentiate your brand in a crowd
 ed market. Gain insights on crafting a unique value proposition and po
 sitioning strategy that highlights what makes your business special.\r
 \n3. Creating Social Media Content That People Love: Find out how to c
 reate compelling social media content that resonates with your audienc
 e and fosters genuine connections. Jack will provide practical advice 
 on content creation, from storytelling techniques to leveraging the la
 test trends.\r\n This will be a great opportunity to learn a something
  new about Carbon Management.\r\nCOST: £15 Mole Valley & Surrey Chamb
 ers £20 Non-Members\r\nBOOKING: Please CLICK HERE to book your plac
 e\r\nMAP\r\n\n\nFor more information visit https://networkinginsurrey.
 co.uk/events/mole-valley-chambers-breakfast-live-dorking
DTSTART;TZID=Europe/London:20240821T073000
DTEND;TZID=Europe/London:20240821T093000
CATEGORIES:business, networking
LOCATION:The Watermill
WEBSITE:https://maps.app.goo.gl/ayZJomeAHNeBjf73A
URL:https://maps.app.goo.gl/ayZJomeAHNeBjf73A
CONTACT:07789035553
ORGANIZER;CN="Richard Excell":https://networkinginsurrey.co.uk/profile
 /RichardExcell
ATTACH;FMTTYPE="image/jpeg":https://storage.ning.com/topology/rest/1.0
 /file/get/12238046098?profile=original
ATTENDEE;ROLE=REQ-PARTICIPANT;PARTSTAT=ACCEPTED;RSVP=TRUE;CN="Richard 
 Excell":https://networkinginsurrey.co.uk/profile/RichardExcell
END:VEVENT
END:VCALENDAR
