BEGIN:VCALENDAR
PRODID:NingEventWidget-v1
VERSION:2.0
METHOD:PUBLISH
BEGIN:VTIMEZONE
TZID:Europe/London
X-LIC-LOCATION:Europe/London
BEGIN:DAYLIGHT
TZOFFSETFROM:+0000
TZOFFSETTO:+0100
TZNAME:BST
DTSTART:19700329T010000
RRULE:FREQ=YEARLY;BYMONTH=3;BYDAY=-1SU
END:DAYLIGHT
BEGIN:STANDARD
TZOFFSETFROM:+0100
TZOFFSETTO:+0000
TZNAME:GMT
DTSTART:19701025T020000
RRULE:FREQ=YEARLY;BYMONTH=10;BYDAY=-1SU
END:STANDARD
END:VTIMEZONE
BEGIN:VEVENT
UID:4626108:Event:543687
DTSTAMP:20260421T220932Z
SUMMARY:Mole Valley Chamber Live! Breakfast, Dorking
DESCRIPTION:Mole Valley Chamber Breakfast Networking at The Watermill\
 r\n\r\n\r\n\r\nPlease join us for face-to-face OCtober Breakfast Netwo
 rking over a delicious breakfast at The Watermill, Dorking. Remember t
 o bring plenty of business cards with you!\r\n\r\nOur speaker this mon
 th is, Detective Superintendent Patrick Milford, from The South East C
 yber Resilience Center.\r\nPatrick will be presenting an overview of c
 yber crime threats, practical steps and signposting to making organisa
 tions more cyber secure, and how the South East Cyber Resilience Centr
 e can help and support your organisation in this journey.\r\nThe South
  East Cyber Resilience Centre is a police-led partnership with academi
 a and businesses aimed at improving cyber resilience in businesses in 
 the South East of England.\r\nUsing a combination of police officers a
 nd cyber talent, the Cyber Resilience Centre for the South East suppor
 ts and helps protect small business, SMEs and supply chain businesses 
 and third sector organisations in the region against cyber crime.\r\nT
 he National Cybercrime Programme created the South East Cyber Resilien
 ce Centre which is a not for profit, police, private, and academic par
 tnership to tackle fraud and cyber crime providing a solution to help 
 businesses protect themselves in a digital age.\r\nCOST: £18 Mole Va
 lley & Surrey Chambers £24 Non-Members\r\nBOOKING: Please CLICK HERE
  to book your place\r\nMAP\r\n\r\n\r\n\n\nFor more information visit 
 https://networkinginsurrey.co.uk/events/mole-valley-chamber-october-ne
 tworking
DTSTART;TZID=Europe/London:20241016T073000
DTEND;TZID=Europe/London:20241016T093000
CATEGORIES:business, networking
LOCATION:The Watermill
WEBSITE:https://www.eventbrite.co.uk/e/mvc-october-networking-breakfas
 t-tickets-950025741567
URL:https://www.eventbrite.co.uk/e/mvc-october-networking-breakfast-ti
 ckets-950025741567
CONTACT:07789035553
ORGANIZER;CN="Richard Excell":https://networkinginsurrey.co.uk/profile
 /RichardExcell
ATTACH;FMTTYPE="image/jpeg":https://storage.ning.com/topology/rest/1.0
 /file/get/12238046098?profile=original
ATTENDEE;ROLE=REQ-PARTICIPANT;PARTSTAT=ACCEPTED;RSVP=TRUE;CN="Richard 
 Excell":https://networkinginsurrey.co.uk/profile/RichardExcell
END:VEVENT
END:VCALENDAR
