BEGIN:VCALENDAR
PRODID:NingEventWidget-v1
VERSION:2.0
METHOD:PUBLISH
BEGIN:VTIMEZONE
TZID:Europe/London
X-LIC-LOCATION:Europe/London
BEGIN:DAYLIGHT
TZOFFSETFROM:+0000
TZOFFSETTO:+0100
TZNAME:BST
DTSTART:19700329T010000
RRULE:FREQ=YEARLY;BYMONTH=3;BYDAY=-1SU
END:DAYLIGHT
BEGIN:STANDARD
TZOFFSETFROM:+0100
TZOFFSETTO:+0000
TZNAME:GMT
DTSTART:19701025T020000
RRULE:FREQ=YEARLY;BYMONTH=10;BYDAY=-1SU
END:STANDARD
END:VTIMEZONE
BEGIN:VEVENT
UID:4626108:Event:540345
DTSTAMP:20260421T172220Z
SUMMARY:Mole Valley & Surrey Chambers Live! Breakfast, Dorking
DESCRIPTION:Mole Valley Chamber Breakfast at The Watermill\r\nJoin us 
 for this face-to-face networking opportunity over a delicious full Eng
 lish breakfast or vegetarian/vegan alternatives at The Watermill in Do
 rking. Remember to bring plenty of business cards with you!\r\n\r\nThi
 s month we are delighted to welcome Richard Lennard who is the Economi
 c Partnerships Manager at London Gatwick. Richard will present an upda
 te on London Gatwick’s current operation and future growth plans. Th
 is will include an overview of their work to support the Local Economy
  as part of their Second Decade of Change sustainability policy.\r\n\r
 \nCOST: £15 Chamber Members, Non-Members £20  including breakfast
 \r\nBOOKING: Please CLICK HERE to book your place\r\nMAP\r\n\n\nFor 
 more information visit https://networkinginsurrey.co.uk/events/mole-va
 lley-chamber-networking-2
DTSTART;TZID=Europe/London:20240117T073000
DTEND;TZID=Europe/London:20240117T093000
CATEGORIES:business, networking
LOCATION:The Watermill RH4 1NN
WEBSITE:https://maps.app.goo.gl/TodmjUBSx9XJGbt37
URL:https://maps.app.goo.gl/TodmjUBSx9XJGbt37
CONTACT:07789 035553
ORGANIZER;CN="Richard Excell":https://networkinginsurrey.co.uk/profile
 /RichardExcell
ATTACH;FMTTYPE="image/jpeg":https://storage.ning.com/topology/rest/1.0
 /file/get/12331806869?profile=original
ATTENDEE;ROLE=REQ-PARTICIPANT;PARTSTAT=ACCEPTED;RSVP=TRUE;CN="Richard 
 Excell":https://networkinginsurrey.co.uk/profile/RichardExcell
END:VEVENT
END:VCALENDAR
