BEGIN:VCALENDAR
PRODID:NingEventWidget-v1
VERSION:2.0
METHOD:PUBLISH
BEGIN:VTIMEZONE
TZID:Europe/London
X-LIC-LOCATION:Europe/London
BEGIN:DAYLIGHT
TZOFFSETFROM:+0000
TZOFFSETTO:+0100
TZNAME:BST
DTSTART:19700329T010000
RRULE:FREQ=YEARLY;BYMONTH=3;BYDAY=-1SU
END:DAYLIGHT
BEGIN:STANDARD
TZOFFSETFROM:+0100
TZOFFSETTO:+0000
TZNAME:GMT
DTSTART:19701025T020000
RRULE:FREQ=YEARLY;BYMONTH=10;BYDAY=-1SU
END:STANDARD
END:VTIMEZONE
BEGIN:VEVENT
UID:4626108:Event:539659
DTSTAMP:20260424T005516Z
SUMMARY:Mole Valley & Surrey Chambers Live! Breakfast, Dorking
DESCRIPTION:Family Law – What you need to know\r\n\r\nDemelza Patric
 io of TWM Solicitors and Michelle Truelove from Surrey Hills Solicitor
 s are our Speakers, and they will be talking about:\r\n\r\nCohabitatio
 n – many people don’t realise that there is no ‘common law marri
 age’ and so couples who live together without being married have no 
 claims on each other. If they own a property jointly there are some po
 ssible pitfalls as they will be assumed to each have a 50% interest in
  the property unless they have a declaration of trust recording that o
 ne of them has invested more money than the other. This can all result
  in unfair situations on separation.\r\n\r\n\r\nPrenuptial agreements 
 – these carry much more weight than they used to and are very helpfu
 l for some couples.\r\n\r\n\r\n‘The bank of Mum and Dad’ – risin
 g house prices have meant that parents often lend or give money to adu
 lt children to help them buy a property – what can be done to try to
  protect that money if the child separates or divorces?\r\n\r\n\r\n\r\
 nModern families – surrogacy and sperm donor agreements.\r\n\r\n\r\n
 Amicable ways of resolving issues on separation – mediation, collabo
 ration, round table meetings – family lawyers work together much mor
 e than people probably realise.\r\n\r\n\r\nWills and Lasting Powers of
  Attorney – why you need them and what can happen if you don’t hav
 e them. Whilst this isn’t our area of specialism, it touches on the 
 work we do and will be relevant to most people so we can give a brief 
 explanation.\r\n\r\n7:30am arrival for an 8:00am breakfast which will 
 finish between 9:00-9:30am.\r\nBookings must be made and paid-for on
 line ahead of the event, and ticket Sales will end at 5pm on Tuesday
  14 November. \r\nWe do hope you will join us, and look forward to see
 ing you there!\r\nCOST: £15 Mole Valley & Surrey Chamber & Dorking 
 BID Members, Non-Members £20  including breakfast\r\nBOOKING: Plea
 se CLICK HERE to book your place\r\nMAP\n\nFor more information visi
 t https://networkinginsurrey.co.uk/events/mole-valley-chamber-4
DTSTART;TZID=Europe/London:20231115T073000
DTEND;TZID=Europe/London:20231115T093000
CATEGORIES:business, networking
LOCATION:The Watermill
WEBSITE:https://maps.app.goo.gl/8eStZ6AHDddBs5XK8
URL:https://maps.app.goo.gl/8eStZ6AHDddBs5XK8
CONTACT:07789 035553
ORGANIZER;CN="Richard Excell":https://networkinginsurrey.co.uk/profile
 /RichardExcell
ATTACH;FMTTYPE="image/jpeg":https://storage.ning.com/topology/rest/1.0
 /file/get/12264993885?profile=original
ATTENDEE;ROLE=REQ-PARTICIPANT;PARTSTAT=ACCEPTED;RSVP=TRUE;CN="Richard 
 Excell":https://networkinginsurrey.co.uk/profile/RichardExcell
END:VEVENT
END:VCALENDAR
