BEGIN:VCALENDAR
PRODID:NingEventWidget-v1
VERSION:2.0
METHOD:PUBLISH
BEGIN:VTIMEZONE
TZID:Europe/London
X-LIC-LOCATION:Europe/London
BEGIN:DAYLIGHT
TZOFFSETFROM:+0000
TZOFFSETTO:+0100
TZNAME:BST
DTSTART:19700329T010000
RRULE:FREQ=YEARLY;BYMONTH=3;BYDAY=-1SU
END:DAYLIGHT
BEGIN:STANDARD
TZOFFSETFROM:+0100
TZOFFSETTO:+0000
TZNAME:GMT
DTSTART:19701025T020000
RRULE:FREQ=YEARLY;BYMONTH=10;BYDAY=-1SU
END:STANDARD
END:VTIMEZONE
BEGIN:VEVENT
UID:4626108:Event:538103
DTSTAMP:20260422T045330Z
SUMMARY:Mole Valley Business Networking Breakfast, Dorking
DESCRIPTION:Mole Valley Chamber Breakfast at The White Horse\r\nMental
  health and resilience\r\nOur speaker will be Åse Greenacre from MRT
  Consultants who will be talking about the mental health and resilien
 ce in the home and work environment.\r\nAwareness around mental health
  is vital for all of us. This is the basis of how we cope with what li
 fe throws at us. We no longer separate home life and work. The lines a
 re blurred and connected which means employers as well and employees n
 eed to take notice and understand the impact mental health has on them
  both privately and professionally. We all benefit from self-awareness
  of which coping skills we use, why need them and how the impact of th
 e various hormones affect us.\r\nCOST: £15 Leatherhead Chamber Memb
 ers,  £20 Non-Members\r\nBOOKING: Please CLICK HERE to book your p
 lace\r\nMAP\n\nFor more information visit https://networkinginsurrey.c
 o.uk/events/mole-valley-business-networking
DTSTART;TZID=Europe/London:20230517T073000
DTEND;TZID=Europe/London:20230517T093000
CATEGORIES:business, networking
LOCATION:The White Horse RH4 1BE
WEBSITE:https://www.eventbrite.co.uk/e/managing-mental-health-at-home-
 and-in-the-workplace-tickets-608726536457
URL:https://www.eventbrite.co.uk/e/managing-mental-health-at-home-and-
 in-the-workplace-tickets-608726536457
CONTACT:
ORGANIZER;CN="Richard Excell":https://networkinginsurrey.co.uk/profile
 /RichardExcell
ATTACH;FMTTYPE="image/jpeg":https://storage.ning.com/topology/rest/1.0
 /file/get/11079165857?profile=original
ATTENDEE;ROLE=REQ-PARTICIPANT;PARTSTAT=ACCEPTED;RSVP=TRUE;CN="Richard 
 Excell":https://networkinginsurrey.co.uk/profile/RichardExcell
END:VEVENT
END:VCALENDAR
