BEGIN:VCALENDAR
PRODID:NingEventWidget-v1
VERSION:2.0
METHOD:PUBLISH
BEGIN:VTIMEZONE
TZID:Europe/London
X-LIC-LOCATION:Europe/London
BEGIN:DAYLIGHT
TZOFFSETFROM:+0000
TZOFFSETTO:+0100
TZNAME:BST
DTSTART:19700329T010000
RRULE:FREQ=YEARLY;BYMONTH=3;BYDAY=-1SU
END:DAYLIGHT
BEGIN:STANDARD
TZOFFSETFROM:+0100
TZOFFSETTO:+0000
TZNAME:GMT
DTSTART:19701025T020000
RRULE:FREQ=YEARLY;BYMONTH=10;BYDAY=-1SU
END:STANDARD
END:VTIMEZONE
BEGIN:VEVENT
UID:4626108:Event:539390
DTSTAMP:20260423T055816Z
SUMMARY:Mole Valley & Surrey Chambers Live! Breakfast, Dorking
DESCRIPTION:Mindfulness and the Business Entrepreneur Breakfast at The
  Watermill\r\nJoin us for this face-to-face networking opportunity ove
 r a delicious full English breakfast or vegetarian/vegan alternatives 
 at The Watermill in Dorking. Remember to bring plenty of business card
 s with you!\r\nOur speaker is Jon O’Hanlon from Jon O’Hanlon Coac
 hing who will be talking about Mindfulness.\r\nMost people these days
  will have heard guru’s and motivational speakers talk about mindful
 ness. Very few actually understand exactly what is meant by mindfulnes
 s, let alone how it can be used to assist and add value in the workpla
 ce. It is far more than simply something to do with meditation.\r\nI w
 ill share with the group 6 different categories of mindfulness, and sh
 ow how applying these is invaluable to the lives of business entrepren
 eurs.\r\nCOST: £15 Chamber Members, Non-Members £20  including br
 eakfast\r\nBOOKING: Please CLICK HERE to book your place\r\nMAP\r\n\
 n\nFor more information visit https://networkinginsurrey.co.uk/events/
 mindfulness-and-the-business-entrepreneur
DTSTART;TZID=Europe/London:20231018T073000
DTEND;TZID=Europe/London:20231018T093000
CATEGORIES:business, networking, dorking, breakfast, chambers
LOCATION:The Watermill
WEBSITE:https://www.eventbrite.co.uk/e/face-to-face-networking-breakfa
 st-tickets-723861568437
URL:https://www.eventbrite.co.uk/e/face-to-face-networking-breakfast-t
 ickets-723861568437
CONTACT:07789035553
ORGANIZER;CN="Richard Excell":https://networkinginsurrey.co.uk/profile
 /RichardExcell
ATTACH;FMTTYPE="image/jpeg":https://storage.ning.com/topology/rest/1.0
 /file/get/12238046098?profile=original
ATTENDEE;ROLE=REQ-PARTICIPANT;PARTSTAT=ACCEPTED;RSVP=TRUE;CN="Richard 
 Excell":https://networkinginsurrey.co.uk/profile/RichardExcell
END:VEVENT
END:VCALENDAR
