BEGIN:VCALENDAR
PRODID:NingEventWidget-v1
VERSION:2.0
METHOD:PUBLISH
BEGIN:VTIMEZONE
TZID:Europe/London
X-LIC-LOCATION:Europe/London
BEGIN:DAYLIGHT
TZOFFSETFROM:+0000
TZOFFSETTO:+0100
TZNAME:BST
DTSTART:19700329T010000
RRULE:FREQ=YEARLY;BYMONTH=3;BYDAY=-1SU
END:DAYLIGHT
BEGIN:STANDARD
TZOFFSETFROM:+0100
TZOFFSETTO:+0000
TZNAME:GMT
DTSTART:19701025T020000
RRULE:FREQ=YEARLY;BYMONTH=10;BYDAY=-1SU
END:STANDARD
END:VTIMEZONE
BEGIN:VEVENT
UID:4626108:Event:97732
DTSTAMP:20260423T053043Z
SUMMARY:FREE Morning 'Metaphors' Presentation, Facebook Live
DESCRIPTION:FREE Morning Facebook Live 'Metaphors' Preview\r\n\r\nJoan
 na Bristow-Watkins and Geoff Rolls will doing a Facebook live introduc
 ing the value of metaphors in our daily life and business on Monday, t
 he 23rd of April at 11:30.\r\nCOST: FREE to view\r\nBOOKING:  It wil
 l go out on Joanna's  Harmony Healing Facebook page here...\n\nFor mo
 re information visit https://networkinginsurrey.co.uk/events/metaphor-
 mini-presentation
DTSTART;TZID=Europe/London:20180423T113000
DTEND;TZID=Europe/London:20180423T114500
CATEGORIES:facebook, live, mini, presentation, on, use, of, metaphors
LOCATION:Online on Harmony Healing Facebook Page
WEBSITE:https://www.facebook.com/Harmony-Healing-248959805155973/
URL:https://www.facebook.com/Harmony-Healing-248959805155973/
CONTACT:07930 414525
ORGANIZER:Joanna Bristow-Watkins and Geoff Rolls
ATTACH;FMTTYPE="image/jpeg":http://storage.ning.com/topology/rest/1.0/
 file/get/2591470644?profile=original
ATTENDEE;ROLE=REQ-PARTICIPANT;PARTSTAT=ACCEPTED;RSVP=TRUE;CN="Joanna B
 ristow-Watkins":https://networkinginsurrey.co.uk/profile/JoannaBristow
 Watkins
END:VEVENT
END:VCALENDAR
