BEGIN:VCALENDAR
PRODID:NingEventWidget-v1
VERSION:2.0
METHOD:PUBLISH
BEGIN:VTIMEZONE
TZID:Europe/London
X-LIC-LOCATION:Europe/London
BEGIN:DAYLIGHT
TZOFFSETFROM:+0000
TZOFFSETTO:+0100
TZNAME:BST
DTSTART:19700329T010000
RRULE:FREQ=YEARLY;BYMONTH=3;BYDAY=-1SU
END:DAYLIGHT
BEGIN:STANDARD
TZOFFSETFROM:+0100
TZOFFSETTO:+0000
TZNAME:GMT
DTSTART:19701025T020000
RRULE:FREQ=YEARLY;BYMONTH=10;BYDAY=-1SU
END:STANDARD
END:VTIMEZONE
BEGIN:VEVENT
UID:4626108:Event:98211
DTSTAMP:20260422T132717Z
SUMMARY:Mercedes-Benz Breakfast, Brooklands
DESCRIPTION:Mercedes-Benz Breakfast\r\nJoin us for one of our regular
  networking breakfast at Mercedes-Benz World. Enjoy a full English Br
 eakfast, network, and then take a tour of Mercedes-Benz worlds’ fant
 astic facilities and showroom.  About Mercedes-Benz World Located on t
 he famous Brooklands site in Weybridge, Surrey, Mercedes-Benz World is
  an unforgettable day out, not just for motoring fans but the whole fa
 mily. With our Driving Experiences, you can put your driving skills to
  the test out on the Handling Circuit in a range of Mercedes-Benz vehi
 cles. Or let the Silver Arrows Display Team show you how it’s done. 
 Off the track, you can explore fascinating exhibitions, get up close t
 o legendary Mercedes-Benz vehicles, and enjoy a bite to eat at Café 1
 886 or the Gullwing Bistro which offer a range of food and drinks, fro
 m light bites and sandwiches to three-course dining with trackside vie
 ws. As well as making for a fantastic day out all these facilities - h
 oused within our impressive building and grounds – also play host to
  conferences and other special events.  Timing: 08:00am - Arrival with
  teas and coffees & networking 08:30am - Breakfast and discussion 09:0
 0am - Further networking 09:45am - Close\r\nCOST: Member Rate: £24 |
  Non Member Rate: £30 meeting fee including breakfast\r\nBOOKING: Ple
 ase CLICK HERE to book \r\nMAP\r\nAmple free parking is available on
 -site.\n\nFor more information visit https://networkinginsurrey.co.uk/
 events/mercedes-benz-breakfast-brooklands
DTSTART;TZID=Europe/London:20180516T080000
DTEND;TZID=Europe/London:20180516T094500
CATEGORIES:networking, breakfast
LOCATION:Mercedes-Benz World KT13 0SL
WEBSITE:https://www.surrey-chambers.co.uk/event-listing/event-detail/?
 eidQS=FD346485-8356-49E0-9975-83DD89895C26
URL:https://www.surrey-chambers.co.uk/event-listing/event-detail/?eidQ
 S=FD346485-8356-49E0-9975-83DD89895C26
CONTACT:01483 735540
ORGANIZER;CN="Ivan Spooner":https://networkinginsurrey.co.uk/profile/I
 vanSpooner
ATTACH;FMTTYPE="image/jpeg":http://storage.ning.com/topology/rest/1.0/
 file/get/2591471785?profile=original
ATTENDEE;ROLE=REQ-PARTICIPANT;PARTSTAT=ACCEPTED;RSVP=TRUE;CN="Ivan Spo
 oner":https://networkinginsurrey.co.uk/profile/IvanSpooner
END:VEVENT
END:VCALENDAR
