BEGIN:VCALENDAR
PRODID:NingEventWidget-v1
VERSION:2.0
METHOD:PUBLISH
BEGIN:VTIMEZONE
TZID:Europe/London
X-LIC-LOCATION:Europe/London
BEGIN:DAYLIGHT
TZOFFSETFROM:+0000
TZOFFSETTO:+0100
TZNAME:BST
DTSTART:19700329T010000
RRULE:FREQ=YEARLY;BYMONTH=3;BYDAY=-1SU
END:DAYLIGHT
BEGIN:STANDARD
TZOFFSETFROM:+0100
TZOFFSETTO:+0000
TZNAME:GMT
DTSTART:19701025T020000
RRULE:FREQ=YEARLY;BYMONTH=10;BYDAY=-1SU
END:STANDARD
END:VTIMEZONE
BEGIN:VEVENT
UID:4626108:Event:2842
DTSTAMP:20260425T202556Z
SUMMARY:MEMBER PROMOTION - Understanding the Aliens - One day Workshop
 , Camberley
DESCRIPTION:MEMBER PROMOTION - Training -Understanding the Aliens\n\n\
 n\"Understand Body Language and Build Rapport\"\nUnderstanding the Ali
 ens ™ is a day with a difference. It is a day where you get good, cl
 ear and simple explanations, as well as real hands on experience of us
 ing what you learn for your own and others benefit. The focus is on gi
 ving you the opportunity to learn and use some basic techniques which 
 you can implement in your own lives, straightaway.\nLearn how to creat
 e rapport - quickly and authentically\nAre difficult people really dif
 ficult?\nLearn how to relate to others comfortably, fluently & easily\
 nWays to build stronger, more rewarding relationships with all people\
 nFind out how to make body language work for you\nImprove your relatio
 nships with those around you through better understanding\nWhat convin
 ces someone to do something? And how can you recognise it?\nWhy some p
 eople never seem to understand where you are coming from!\nDiscover ho
 w your brain processes information and how to use that knowledge to re
 late better with others!\nTake away a toolkit of tips and techniques f
 or use at home and in your work This is an interactive workshop and ev
 eryone will have ample opportunity to put into action the techniques w
 e learn. We limit our sessions to 20 so spaces are limited. BOOK soon 
 ☺ and prepare to learn and have fun at the same time!\nCOST: £75 in
 cluding teas and coffees and biscuits (and lots of laughter throughout
  the day!)\nBOOK HERE: To book your place please call NiS Member Tina 
 Williams or email tina@TheInspirationPeople.com\nVENUE\nMAP\n\n\n\nFor
  more information visit https://networkinginsurrey.co.uk/events/member
 -promotion
DTSTART;TZID=Europe/London:20100703T093000
DTEND;TZID=Europe/London:20100703T160000
CATEGORIES:workshop, training, member_promotion
LOCATION:Macdonald Frimley Hall Hotel & Spa GU15 2BG
WEBSITE:http://www.theinspirationpeople.com/
URL:http://www.theinspirationpeople.com/
CONTACT:07973 402037
ORGANIZER:Tina Williams
ATTACH;FMTTYPE="image/jpeg":http://storage.ning.com/topology/rest/1.0/
 file/get/2591377754?profile=original
ATTENDEE;ROLE=REQ-PARTICIPANT;PARTSTAT=ACCEPTED;RSVP=TRUE;CN="Tina Wil
 liams":https://networkinginsurrey.co.uk/profile/TinaWilliams
END:VEVENT
END:VCALENDAR
