BEGIN:VCALENDAR
PRODID:NingEventWidget-v1
VERSION:2.0
METHOD:PUBLISH
BEGIN:VTIMEZONE
TZID:Europe/London
X-LIC-LOCATION:Europe/London
BEGIN:DAYLIGHT
TZOFFSETFROM:+0000
TZOFFSETTO:+0100
TZNAME:BST
DTSTART:19700329T010000
RRULE:FREQ=YEARLY;BYMONTH=3;BYDAY=-1SU
END:DAYLIGHT
BEGIN:STANDARD
TZOFFSETFROM:+0100
TZOFFSETTO:+0000
TZNAME:GMT
DTSTART:19701025T020000
RRULE:FREQ=YEARLY;BYMONTH=10;BYDAY=-1SU
END:STANDARD
END:VTIMEZONE
BEGIN:VEVENT
UID:4626108:Event:3832
DTSTAMP:20260425T202823Z
SUMMARY:MEMBER PROMO - 'You Only Have 1 Second' Morning Workshop, Guil
 dford
DESCRIPTION:Morning Workshop: Engaging Customers with your Tweets, Blo
 gs, Emails and Headlines held at Guildford Golf Club\n\nDo you know ho
 w you arrived at this page? Perhaps you saw a Tweet? Perhaps someone t
 old you about it? It might have been in a email newsletter or even an 
 RSS feed. Was it a Google search or just good old serendipity?\n\nCan 
 you remember how long it took you to make your mind up to follow that 
 link or check out this page? In all probability, it was a fairly insta
 ntaneous decision. Would you like to know the reasons why you are now 
 reading the rest of this page?\n\nIn this day and age, we are bombarde
 d with an increasing volume of information. The time we decide on whet
 her to look at something out is now less than one second.\n\nTo get yo
 ur messages seen you have to stand out from the crowd. Your blog, your
  article, your email or your ad has to breakthrough from the noise flo
 or and grab your potential reader’s attention.\n\nYou Only Have 1 Se
 cond is a series of three 1/2 day workshops that will show you the tri
 cks behind writing stonking headlines and attention grabbing copy that
  stands out from the crowd.\n\n\nPresented by NiS Member Tom Evans - T
 he Bookwright - and Nicky Kriel – Neuro-linguistic Coach and Social 
 Media Marketeer.\nCOST £97 - This is the first in a series of 3 works
 hops - discounts are available if you book more than one\nBOOK HERE\nM
 AP\n\nFor more information visit https://networkinginsurrey.co.uk/even
 ts/member-promo-you-only-have-1
DTSTART;TZID=Europe/London:20101001T093000
DTEND;TZID=Europe/London:20101001T123000
CATEGORIES:workshop, guildford
LOCATION:Guildford Golf Club GU1 2HL
WEBSITE:http://www.tomevans.co/happenings/you-only-have-1-second/
URL:http://www.tomevans.co/happenings/you-only-have-1-second/
CONTACT:01483 209560
ORGANIZER:Tom Evans & Nicky Kriel
ATTACH;FMTTYPE="image/jpeg":http://storage.ning.com/topology/rest/1.0/
 file/get/2591377754?profile=original
END:VEVENT
END:VCALENDAR
