BEGIN:VCALENDAR
PRODID:NingEventWidget-v1
VERSION:2.0
METHOD:PUBLISH
BEGIN:VTIMEZONE
TZID:Europe/London
X-LIC-LOCATION:Europe/London
BEGIN:DAYLIGHT
TZOFFSETFROM:+0000
TZOFFSETTO:+0100
TZNAME:BST
DTSTART:19700329T010000
RRULE:FREQ=YEARLY;BYMONTH=3;BYDAY=-1SU
END:DAYLIGHT
BEGIN:STANDARD
TZOFFSETFROM:+0100
TZOFFSETTO:+0000
TZNAME:GMT
DTSTART:19701025T020000
RRULE:FREQ=YEARLY;BYMONTH=10;BYDAY=-1SU
END:STANDARD
END:VTIMEZONE
BEGIN:VEVENT
UID:4626108:Event:2979
DTSTAMP:20260425T173704Z
SUMMARY:MEMBER PROMO: Weekend Foot Reading Seminars with Jane Sheehan,
  Weybridge
DESCRIPTION:Foot Reading Seminars with Jane Sheehan\n Jane Sheehan is 
 a qualified Reflexologist and a Member of the Association of Relexolog
 ists. She is also a published author (Let's Read Our Feet! & The Foot 
 Reading Coach ) and has appeared on local radio and national TV. You c
 an hear a radio interview with Jane on her website (requires Real Play
 er).\n\nOver the two days Jane will share the secrets of how to ‘rea
 d’ personality traits through structural analysis of the feet. You d
 on't need to be a therapist to be come along to these seminars, they w
 ill benefit anyone who has an interest in feet and/or personal develop
 ment. Reflexologists & Therapists can benefit from learning a new way 
 to holistically enhance their treatments (no longer just focusing on t
 he physical but now able to understand the emotional) and will give ev
 eryone the opportunity to learn an unusual skill that will benefit the
 ir holistic practice.\nDAY 1 (Saturday 17): Solestry – The Art of Fo
 ot Reading Seminar Introducing the principles and techniques of foot r
 eading. The day will be very intense yet fun. Attendees will need to b
 ring a pen, paper and wear footwear which is conducive to easy removal
 . They may also want to bring a wet wipe, as whilst they won’t be to
 uching the feet, they may want to freshen up first!\nDAY 2 (Sunday 18)
 : Solestry – The Art of Foot Reading/Practical Workshop\nPractice yo
 ur new-found knowledge in a supportive environment with experienced fo
 ot reader on hand to answer any questions that arise from the readings
 . Some people attend this seminar the following day after attending th
 e theory seminar and some people attend much later after practicing th
 eir skills to fill their recognised gaps in their knowledge. There’l
 l be feedback about how to deliver information, how to release emotion
 al blockages and general coaching skills. Be prepared for a very inter
 active day.\nCOST: £70 for each day (if you wish to attend Day 2 (Sun
 day) you must previously have attended Jane's Day 1 Seminar)\nBOOK HER
 E: To book, please contact NiS Member Alison Fuller by email info@sere
 nehealing.co.uk or call her on 07811 123494\nMAP\n--------------------
 ---------\nTo give you an idea of the sort of thing that Jane will cov
 er: If both the second toes do not touch the floor, that person has lo
 st their way in life and are not getting what they want anymore, but m
 ay not be aware of what it is they actually DO want. We’ll cover not
  just how you see this (in Day One) but also what to do about it (Day 
 Two). Puffiness at the base of the fourth toe indicates problems in re
 lationships that they want to talk about but aren't doing. If the big 
 toe bends towards the little toe, that person is doing too much for ot
 hers and not enough for themselves. This can be tested by the changes 
 in that toe when they start to find time for their own interests - the
  toe will start to move back.\nFor more details take a look at Alison'
 s website.\n\nFor more information visit https://networkinginsurrey.co
 .uk/events/member-promo-weekend-foot
DTSTART;TZID=Europe/London:20100717T100000
DTEND;TZID=Europe/London:20100718T163000
CATEGORIES:seminar, therapy, weybridge, all_day
LOCATION:St. John Ambulance HQ, Mills House, KT13 8HN
WEBSITE:http://www.serenecentreforwellbeing.co.uk/foot-reading-seminar
 /
URL:http://www.serenecentreforwellbeing.co.uk/foot-reading-seminar/
CONTACT:07811 123494
ORGANIZER:Alison Fuller
ATTACH;FMTTYPE="image/jpeg":http://storage.ning.com/topology/rest/1.0/
 file/get/2591377754?profile=original
END:VEVENT
END:VCALENDAR
