BEGIN:VCALENDAR
PRODID:NingEventWidget-v1
VERSION:2.0
METHOD:PUBLISH
BEGIN:VTIMEZONE
TZID:Europe/London
X-LIC-LOCATION:Europe/London
BEGIN:DAYLIGHT
TZOFFSETFROM:+0000
TZOFFSETTO:+0100
TZNAME:BST
DTSTART:19700329T010000
RRULE:FREQ=YEARLY;BYMONTH=3;BYDAY=-1SU
END:DAYLIGHT
BEGIN:STANDARD
TZOFFSETFROM:+0100
TZOFFSETTO:+0000
TZNAME:GMT
DTSTART:19701025T020000
RRULE:FREQ=YEARLY;BYMONTH=10;BYDAY=-1SU
END:STANDARD
END:VTIMEZONE
BEGIN:VEVENT
UID:4626108:Event:67668
DTSTAMP:20260419T141051Z
SUMMARY:MEMBER  PROMO:Presenting Skills Workshop, Epsom, Surrey
DESCRIPTION:Presenting Skills Workshop at Global House, Epsom Surrey\n
 \n\nDo you shudder at the thought of speaking in public?  \nAre you p
 assing up the opportunity to promote your business at the many network
 ing events?\nWould you like to overcome this fear?\n\nIf you’ve answ
 ered YES to any or all of the above, you'll  be interested in our Pre
 senting Skills Workshop which will give you the skills, confidence and
  content ideas you need to overcome this hurdle and maximize every opp
 ortunity to present your business in the best way possible.\nOur works
 hops include time for networking and we’ll be providing a detailed 
 delegate list to help you stay in contact and continue business relati
 onships after the workshop. They are presented by Nis Members Ges Ray,
  the Public Speaking Coach, and Producer & Voice-over Artist Louise C
 amby.\nOur next workshop in Surrey is at Global House in Epsom on Wedn
 esday 17th September. The Stage 1 workshops teaching you the skills, c
 onfidence techniques and content ideas for your presentation is from 0
 8:45 until 13:00.  The Stage 2 workshop where you will present your b
 usiness and receive personalised constructive criticism is in the afte
 rnoon from 14:00 - 17:30.  You can also book the full day.\nThis is a
 n amazingly affordable opportunity to improve your ability to speak in
  public and provide you with the tools for presenting your business in
  a more engaging way to engage your audience and leave them rememberin
 g you and your business.\nDuring the morning with us you will:\n\nBuil
 d more confidence\nUnderstand why people struggle with public speaking
 \nLearn and defeat the psychology of fear\nLearn to be passionate abou
 t speaking to groups\nLearn how to prepare the body for speaking\nLear
 n how to prepare your mind for speaking\nLearn alternative content ide
 as for presenting your business\nLearn hypnotic techniques to improve 
 your performance\n\nCOST: £55 per person per session early bird price
 .  Full price from 1st - 17th Sept - £95 per session\nDuring the aft
 ernoon with us you will:\n\nPresent your business to the room (5 - 10 
 mins)\nReceive constructive and helpful advice on your presenting sty
 le and the content of your presentation.\n\nBOOKING: Please CLICK HERE
  to book your place\nMAP\n\nFor more information visit https://networ
 kinginsurrey.co.uk/events/member-promo-presenting-skills-workshop-epso
 m-surrey
DTSTART;TZID=Europe/London:20140917T000000
DTEND;TZID=Europe/London:20140917T235900
CATEGORIES:presenting, skills, workshop, networking, morning, afternoo
 n, full, day, crawley
LOCATION:Global House, Epsom, Surrey
WEBSITE:https://www.google.co.uk/maps/place/1+Ashley+Rd,+Epsom,+Surrey
 +KT18+5AQ/@51.3322588,-0.2662741,17z/data=!3m1!4b1!4m2!3m1!1s0x4875e21
 0ddf02331:0x7820d9e51d095be0
URL:https://www.google.co.uk/maps/place/1+Ashley+Rd,+Epsom,+Surrey+KT1
 8+5AQ/@51.3322588,-0.2662741,17z/data=!3m1!4b1!4m2!3m1!1s0x4875e210ddf
 02331:0x7820d9e51d095be0
CONTACT:07889 304460
ORGANIZER;CN="Louise Camby":https://networkinginsurrey.co.uk/profile/L
 ouiseCamby
ATTACH;FMTTYPE="image/jpeg":http://storage.ning.com/topology/rest/1.0/
 file/get/2591425564?profile=original
ATTENDEE;ROLE=REQ-PARTICIPANT;PARTSTAT=ACCEPTED;RSVP=TRUE;CN="Louise C
 amby":https://networkinginsurrey.co.uk/profile/LouiseCamby
END:VEVENT
END:VCALENDAR
