BEGIN:VCALENDAR
PRODID:NingEventWidget-v1
VERSION:2.0
METHOD:PUBLISH
BEGIN:VTIMEZONE
TZID:Europe/London
X-LIC-LOCATION:Europe/London
BEGIN:DAYLIGHT
TZOFFSETFROM:+0000
TZOFFSETTO:+0100
TZNAME:BST
DTSTART:19700329T010000
RRULE:FREQ=YEARLY;BYMONTH=3;BYDAY=-1SU
END:DAYLIGHT
BEGIN:STANDARD
TZOFFSETFROM:+0100
TZOFFSETTO:+0000
TZNAME:GMT
DTSTART:19701025T020000
RRULE:FREQ=YEARLY;BYMONTH=10;BYDAY=-1SU
END:STANDARD
END:VTIMEZONE
BEGIN:VEVENT
UID:4626108:Event:18144
DTSTAMP:20260424T005632Z
SUMMARY:MEMBER PROMO: Personal Safety for Women Morning Workshop, Cher
 tsey
DESCRIPTION:Informal and fun - Personal Safety for Women at St Peters\
 n\nAN HOUR OUT OF YOUR LIFE ......THAT COULD SAVE YOUR LIFE!The 3 most
  common fears people have are: -•Drug assisted sexual assault\n•Be
 ing attacked\n•Dealing with verbal conflict/harassment\n\n\nStaying 
 safe is all about recognising and avoiding situations in the first pla
 ce!\n\nHave you ever been subjected to unwanted attention?\n\nWould yo
 u know what action to take if you thought you were being followed?\n\n
 Somebody grabs you! What do you do?\n\nWhat would happen if someone sn
 atched your handbag?\n\nDo you know how to park your car?\n\nWhat ever
 yday objects could you use to protect yourself?\n\nYou’re confronted
 , what do you do?\n\n\nJust taking a few common sense precautions and 
 being shown some very simple, yet incredibly effective moves could mak
 e the difference between becoming just another statistic or having the
  self confidence and knowledge to avoid or deal with the situation!\nB
 uild your confidence and join me on the most effective personal safety
  workshop you’ll ever attend.\nCOST: £26\nCLICK HERE TO BOOK\nMore 
 details here on Garth's website\nFor further information contact Garth
  on 07931 515392 \nMAP\n\nFor more information visit https://networki
 nginsurrey.co.uk/events/member-promo-personal-safety
DTSTART;TZID=Europe/London:20110606T100000
DTEND;TZID=Europe/London:20110606T113000
CATEGORIES:workshop, morning, chertsey
LOCATION:St. Peter’s Church Hall
WEBSITE:http://thelifestleguy.eventbrite.com
URL:http://thelifestleguy.eventbrite.com
CONTACT:07931 515392
ORGANIZER;CN="Garth Delikan":https://networkinginsurrey.co.uk/profile/
 GarthDelikan
ATTACH;FMTTYPE="image/jpeg":http://storage.ning.com/topology/rest/1.0/
 file/get/2591391544?profile=original
ATTENDEE;ROLE=REQ-PARTICIPANT;PARTSTAT=ACCEPTED;RSVP=TRUE;CN="Garth De
 likan":https://networkinginsurrey.co.uk/profile/GarthDelikan
END:VEVENT
END:VCALENDAR
