BEGIN:VCALENDAR
PRODID:NingEventWidget-v1
VERSION:2.0
METHOD:PUBLISH
BEGIN:VTIMEZONE
TZID:Europe/London
X-LIC-LOCATION:Europe/London
BEGIN:DAYLIGHT
TZOFFSETFROM:+0000
TZOFFSETTO:+0100
TZNAME:BST
DTSTART:19700329T010000
RRULE:FREQ=YEARLY;BYMONTH=3;BYDAY=-1SU
END:DAYLIGHT
BEGIN:STANDARD
TZOFFSETFROM:+0100
TZOFFSETTO:+0000
TZNAME:GMT
DTSTART:19701025T020000
RRULE:FREQ=YEARLY;BYMONTH=10;BYDAY=-1SU
END:STANDARD
END:VTIMEZONE
BEGIN:VEVENT
UID:4626108:Event:6462
DTSTAMP:20260422T105453Z
SUMMARY:MEMBER PROMO: Outlook Morning Workshop, Merstham - Clear your 
 Inbox for 2011
DESCRIPTION:MS Outlook Training with DreamGenius\n\n\nDo you use Outlo
 ok for your emails?\nDoes your inbox get cluttered and slow down?\n\n\
 nKnowing how to send, receive and file your emails so you can easily f
 ind them is only the tip of the iceberg.  Your Outlook file requires 
 maintenance and housekeeping to ensure it runs smoothly and effectivel
 y.A little bit of regular maintenance on your Outlook files could save
  you from a lot of expense and downtime whilst your system is fixed an
 d data recovered.Full details and ticket booking here\n\nFor more info
 rmation visit https://networkinginsurrey.co.uk/events/member-promo-out
 look-morning
DTSTART;TZID=Europe/London:20110128T093000
DTEND;TZID=Europe/London:20110128T123000
CATEGORIES:interactive, workshop
LOCATION:Merstham Community Facility Trust
WEBSITE:http://www.mcft.org.uk/
URL:http://www.mcft.org.uk/
CONTACT:01737300480
ORGANIZER;CN="Alan Rogers":https://networkinginsurrey.co.uk/profile/Dr
 eamGeniusLtd
ATTACH;FMTTYPE="image/jpeg":http://storage.ning.com/topology/rest/1.0/
 file/get/2591390021?profile=original
ATTENDEE;ROLE=REQ-PARTICIPANT;PARTSTAT=ACCEPTED;RSVP=TRUE;CN="Alan Rog
 ers":https://networkinginsurrey.co.uk/profile/DreamGeniusLtd
ATTENDEE;ROLE=REQ-PARTICIPANT;PARTSTAT=TENTATIVE;RSVP=TRUE;CN="Carolin
 e Slater":https://networkinginsurrey.co.uk/profile/CarolineSlater
END:VEVENT
END:VCALENDAR
