BEGIN:VCALENDAR
PRODID:NingEventWidget-v1
VERSION:2.0
METHOD:PUBLISH
BEGIN:VTIMEZONE
TZID:Europe/London
X-LIC-LOCATION:Europe/London
BEGIN:DAYLIGHT
TZOFFSETFROM:+0000
TZOFFSETTO:+0100
TZNAME:BST
DTSTART:19700329T010000
RRULE:FREQ=YEARLY;BYMONTH=3;BYDAY=-1SU
END:DAYLIGHT
BEGIN:STANDARD
TZOFFSETFROM:+0100
TZOFFSETTO:+0000
TZNAME:GMT
DTSTART:19701025T020000
RRULE:FREQ=YEARLY;BYMONTH=10;BYDAY=-1SU
END:STANDARD
END:VTIMEZONE
BEGIN:VEVENT
UID:4626108:Event:4987
DTSTAMP:20260423T022847Z
SUMMARY:MEMBER PROMO: One-day Marketing Motivation Workshop, Guildford
DESCRIPTION:“Get yourself on Facebook”, “Start a blog”, “Are
  you using Twitter yet?”, “Have you thought about advertising here
 ?”, “Sign up for my webinar!”…We’re so inundated with advice
  on the latest ways to market our businesses that finding the time and
  money to spend on each of these becomes overwhelming.\n\n- How can yo
 u make sure that the time you’re spending marketing your business is
  productive?\n\n- How do you make the best use of your limited resourc
 es – both time and money?\n\n- And how do you cut through the fog, r
 econnect with what really matters and rediscover your passion for your
  business?\n\nJoin Fiona Humberstone and Elizabeth Cairns on this day-
 long workshop and you’ll be re-motivated, refocused and reinvigorate
 d. You’ll reconnect with what really matters and be ready to drive y
 our business forward in 2011.\n\nThrough a series of practical exercis
 es and simple planning techniques, Elizabeth and Fiona will help you r
 efocus on what you want to get out of 2011 and create a marketing plan
  to ensure you get there.\n\nDate: Thursday 9th December 2010\nTime: 9
 .15am – 4.00pm\nVenue: Flourish Studios, 5 Millmead, Guildford, GU2 
 4BE\nPrice: £177pp plus VAT\n\nSPECIAL OFFER : £147pp plus VAT, when
  you book before 26th November 2010\n\nWho should attend?\n2011 is goi
 ng to be an interesting year for many businesses. As we try to haul ou
 rselves out of the recession and get the economy back on track, runnin
 g a successful business throughout this time isn’t going to be easy.
 \n\nIf you’ve found that you’re now a little jaded from working so
  hard but not seeing a return, then this workshop is for you. Elizabet
 h will reignite your passion for your business and get you all fired u
 p for 2011 and Fiona will help you plan for how you’re going to get 
 there.\n\nWhat you'll learn:\nDiscover the free and low cost ways that
  you can market your business.\n\nExplore how you might automate some 
 areas of your marketing to ensure that low-cost doesn’t mean high ef
 fort.\n\nIdentify some of the marketing tools that you’ll need to in
 vest in but that will seriously impact on your success.\n\nDefine a cl
 ear brand strategy to ensure that the time you spend on your marketing
  gets you the best possible results.\n\nYou’ll leave with a clear se
 nse of your marketing priorities for 2011, a focused plan for the step
 s you need to take to get there, and the reassurance that comes from k
 nowing they are perfectly aligned with your personal values.\n\nHow ot
 hers have benefitted from Flourishing Workshops:\n“It was very helpf
 ul to take time out and refocus on marketing priorities and how to be 
 more consistent with the marketing messages I put out. Lots of clear, 
 practical ideas – thanks!”\nAnne Williams, Worklife Balance Soluti
 ons\n\nWhat you get:\nA Flourishing Workshop workbook complete with th
 e course notes\n\nTwo weeks email and telephone support to ensure you 
 really put what you’ve learned into action\n\n£50 Flourish gift vou
 cher to put towards helping your business to flourish in 2011\n\n£50 
 discount for a 2 hour Amovita Discovery Session\n\nTo Book & Further I
 nformation\nhttp://www.flourishstudios.co.uk/speaking/marketing-worksh
 ops/focus-and-flourish\nAlternatively, please call us on 01483 401 818
 .\n\nFor more information visit https://networkinginsurrey.co.uk/event
 s/member-promo-oneday-marketing
DTSTART;TZID=Europe/London:20101209T091500
DTEND;TZID=Europe/London:20101209T160000
CATEGORIES:workshop, guildford
LOCATION:Flourish Studios
WEBSITE:http://www.flourishstudios.co.uk/speaking/marketing-workshops/
 focus-and-flourish
URL:http://www.flourishstudios.co.uk/speaking/marketing-workshops/focu
 s-and-flourish
CONTACT:01483 401 818
ORGANIZER:Fiona Humberstone
ATTACH;FMTTYPE="image/jpeg":http://storage.ning.com/topology/rest/1.0/
 file/get/2591386830?profile=original
ATTENDEE;ROLE=REQ-PARTICIPANT;PARTSTAT=ACCEPTED;RSVP=TRUE;CN="Rona Whe
 eldon":https://networkinginsurrey.co.uk/profile/RonaWheeldon
END:VEVENT
END:VCALENDAR
