BEGIN:VCALENDAR
PRODID:NingEventWidget-v1
VERSION:2.0
METHOD:PUBLISH
BEGIN:VTIMEZONE
TZID:Europe/London
X-LIC-LOCATION:Europe/London
BEGIN:DAYLIGHT
TZOFFSETFROM:+0000
TZOFFSETTO:+0100
TZNAME:BST
DTSTART:19700329T010000
RRULE:FREQ=YEARLY;BYMONTH=3;BYDAY=-1SU
END:DAYLIGHT
BEGIN:STANDARD
TZOFFSETFROM:+0100
TZOFFSETTO:+0000
TZNAME:GMT
DTSTART:19701025T020000
RRULE:FREQ=YEARLY;BYMONTH=10;BYDAY=-1SU
END:STANDARD
END:VTIMEZONE
BEGIN:VEVENT
UID:4626108:Event:4294
DTSTAMP:20260424T210141Z
SUMMARY:MEMBER PROMO: One-day Blogging Workshop from Flourish, Guildfo
 rd
DESCRIPTION:'How to create a Blog that'll win you Business'\nBlogging 
 is quite possibly the most powerful marketing tool you have at your di
 sposal. Work out how to do it correctly and youâ€™ll build relationshi
 ps with both current and prospective clients, position yourself as an 
 expert and drive traffic to your site. But how can you be sure anyoneâ
 €™s actually reading what youâ€™re writing? And how do you turn your r
 amblings into a business opportunity?\n\nJoin me, Fiona Humberstone, o
 n a day-long workshop to discover how you can turn your blog into a cl
 ient magnet. Date : Thursday 4th November, 2010 Time : 9.15 am - 4.00 
 pm\nLocation : Flourish Studios, 5 Millmead, Guildford, GU2 4BE\nPrice
  : Â£177 plus VAT SPECIAL OFFER : Â£147 plus VAT, when you book before
  22nd October 2010\nWho should attend? This workshop is for business o
 wners and marketing consultants who are tired of seeing their blogs la
 nguishing in a dusty corner of their website and want to understand ho
 w to start using them to bring you in business. Blogging is one of the
  best tools you can use if you're serious about getting clients to com
 e to you, rather than you having to go to them. And it works just as w
 ell whether you're selling a product or service, business-to-business 
 or business-to-consumer.\nWhat you'll learn:\n- Where to start: how to
  write a post, assign categories and link to your Twitter and LinkedIn
  profiles - Blog design tips - how to create gorgeous looking posts - 
 What to write about, how often and how to clear your writer's block\n-
  How to know whether people are reading what you're writing; and likin
 g what you're saying\n- How to generate comments\n- How to promote you
 r blog and drive traffic to it\n- How to use your blog to generate enq
 uiries for your business, without blatantly selling (which we all know
  turns people off)\n- The importance of a good title, and how to write
  one to bring real people and SEO traffic to your site\n- How to use T
 witter to generate a buzz about your blog\n\nHow others have benefitte
 d from Flourishing Workshops:>â€˜The workshop gave a great balance bet
 ween the technical aspects of blogging and the tricky business of writ
 ing engaging content.â€™ Philippa Varey, Oriel Marketing\n\nWhat you g
 et:\n- A Flourishing Workshop folder complete with the course notes\n-
  Two weeks email and telephone support\n- Insight, inspiration and pra
 ctical tips from people who have created profitable blogs from scratch
 \n- Plenty of refreshments including tea, coffee, home-made biscuits, 
 a delicious two course buffet lunch and afternoon tea with fruit\n\nTo
  Book & Further Information\n\nhttp://www.flourishstudios.co.uk/speaki
 ng/marketing-workshops/blogging-workshop\n\nAlternatively, please call
  us on 01483 401 818.\n\n\nFor more information visit https://networki
 nginsurrey.co.uk/events/member-promo-oneday-blogging
DTSTART;TZID=Europe/London:20101104T091500
DTEND;TZID=Europe/London:20101104T160000
CATEGORIES:workshop
LOCATION:Flourish Studios
WEBSITE:http://www.flourishstudios.co.uk/speaking/marketing-workshops/
 blogging-workshop
URL:http://www.flourishstudios.co.uk/speaking/marketing-workshops/blog
 ging-workshop
CONTACT:01483 401 818
ORGANIZER:Fiona Humberstone
ATTACH;FMTTYPE="image/jpeg":http://storage.ning.com/topology/rest/1.0/
 file/get/2591377754?profile=original
ATTENDEE;ROLE=REQ-PARTICIPANT;PARTSTAT=ACCEPTED;RSVP=TRUE;CN="Rona Whe
 eldon":https://networkinginsurrey.co.uk/profile/RonaWheeldon
END:VEVENT
END:VCALENDAR
