BEGIN:VCALENDAR
PRODID:NingEventWidget-v1
VERSION:2.0
METHOD:PUBLISH
BEGIN:VTIMEZONE
TZID:Europe/London
X-LIC-LOCATION:Europe/London
BEGIN:DAYLIGHT
TZOFFSETFROM:+0000
TZOFFSETTO:+0100
TZNAME:BST
DTSTART:19700329T010000
RRULE:FREQ=YEARLY;BYMONTH=3;BYDAY=-1SU
END:DAYLIGHT
BEGIN:STANDARD
TZOFFSETFROM:+0100
TZOFFSETTO:+0000
TZNAME:GMT
DTSTART:19701025T020000
RRULE:FREQ=YEARLY;BYMONTH=10;BYDAY=-1SU
END:STANDARD
END:VTIMEZONE
BEGIN:VEVENT
UID:4626108:Event:4364
DTSTAMP:20260424T160901Z
SUMMARY:MEMBER PROMO: Networking Evening with Secret Millionaire Kevin
  Green, Woking
DESCRIPTION:Meet Kevin Green at the Ambassadors, Woking\n\nKevin will 
 be speaking about \"The Wealth Secrets of a Secret Millionaire\"\nWoul
 d you or anyone you know be interested to come to my event at the Amba
 ssadors in Woking on Monday November 8th and meet secret millionaire K
 evin Green 6-9 pm?\nCOST: £10 All welcome - please contact NiS Member
  Annie Heggie on 07974 688903 or email annieheggie@gmail.com\nMAP\nDIR
 ECTIONS\nRaffle in aid of Amber Foundation & Chase Hospice Limited num
 bers so early registration preferred\n\nFor more information visit htt
 ps://networkinginsurrey.co.uk/events/member-promo-networking
DTSTART;TZID=Europe/London:20101108T180000
DTEND;TZID=Europe/London:20101108T210000
CATEGORIES:networking, "&", fundraiser
LOCATION:The Ambassadors GU21 6GQ
WEBSITE:http://maps.google.co.uk/maps?f=q&hl=en&q=GU21%206GQ&ie=UTF8&o
 m=1
URL:http://maps.google.co.uk/maps?f=q&hl=en&q=GU21%206GQ&ie=UTF8&om=1
CONTACT:07974688903
ORGANIZER;CN="Annie Heggie":https://networkinginsurrey.co.uk/profile/A
 nnie
ATTACH;FMTTYPE="image/jpeg":http://storage.ning.com/topology/rest/1.0/
 file/get/2591377754?profile=original
ATTENDEE;ROLE=REQ-PARTICIPANT;PARTSTAT=ACCEPTED;RSVP=TRUE;CN="Annie He
 ggie":https://networkinginsurrey.co.uk/profile/Annie
END:VEVENT
END:VCALENDAR
