BEGIN:VCALENDAR
PRODID:NingEventWidget-v1
VERSION:2.0
METHOD:PUBLISH
BEGIN:VTIMEZONE
TZID:Europe/London
X-LIC-LOCATION:Europe/London
BEGIN:DAYLIGHT
TZOFFSETFROM:+0000
TZOFFSETTO:+0100
TZNAME:BST
DTSTART:19700329T010000
RRULE:FREQ=YEARLY;BYMONTH=3;BYDAY=-1SU
END:DAYLIGHT
BEGIN:STANDARD
TZOFFSETFROM:+0100
TZOFFSETTO:+0000
TZNAME:GMT
DTSTART:19701025T020000
RRULE:FREQ=YEARLY;BYMONTH=10;BYDAY=-1SU
END:STANDARD
END:VTIMEZONE
BEGIN:VEVENT
UID:4626108:Event:4742
DTSTAMP:20260424T080541Z
SUMMARY:MEMBER PROMO: Morning PR and SEO Workshop
DESCRIPTION:\nUnderstanding what your customers think and how they can
  find you through PR and SEO\n\nThis introductory workshop, offered by
  NiS Memers Wendy Chamier of eConsulting and Nicky Rudd of Padua Commu
 nications, offers practical advice and guidance to help you understand
  who your customers are, how they think, and how they search for servi
 ces online. This PR and SEO workshop focuses on the following: - funda
 mental marketing and PR principles\n- website design for customer enga
 gement\n- search engine optimisation (SEO) techniques\n\nBy the end of
  the workshop, you will understand:\n\n- how to identify your target c
 ustomers\n- why the key phrases and words your customers use are so im
 portant\n- the tools that can identify your keywords\n- how to put it 
 all into practice - optimising your website and customer communication
 s\n\nWho should attend?\n\nIndividuals and start-ups new to the world 
 of marketing and PR, website design and SEO\nSmall business owners loo
 king to adopt a more customer focussed marketing approach\nSales and m
 arketing managers looking for a PR/SEO customer based refresher worksh
 op\n\nCOST: £120 or £84 (for 4N, Athena, Ladies@11 and BNI networkin
 g members)\n\nBOOK HERE\nMAP\n\nFor more information visit https://net
 workinginsurrey.co.uk/events/member-promo-morning-pr-and
DTSTART;TZID=Europe/London:20101116T093000
DTEND;TZID=Europe/London:20101116T123000
CATEGORIES:workshop, walton_on_thames, morning
LOCATION:The Swan, Walton on Thames, KT12 2PF
WEBSITE:http://www.wendychamier.co.uk/services.php?PageName=PR-SEO-wor
 kshop
URL:http://www.wendychamier.co.uk/services.php?PageName=PR-SEO-worksho
 p
CONTACT:07545 253293
ORGANIZER;CN="Nicky Rudd":https://networkinginsurrey.co.uk/profile/Nic
 kyRudd
ATTACH;FMTTYPE="image/jpeg":http://storage.ning.com/topology/rest/1.0/
 file/get/2591377754?profile=original
ATTENDEE;ROLE=REQ-PARTICIPANT;PARTSTAT=ACCEPTED;RSVP=TRUE;CN="Nicky Ru
 dd":https://networkinginsurrey.co.uk/profile/NickyRudd
END:VEVENT
END:VCALENDAR
