BEGIN:VCALENDAR
PRODID:NingEventWidget-v1
VERSION:2.0
METHOD:PUBLISH
BEGIN:VTIMEZONE
TZID:Europe/London
X-LIC-LOCATION:Europe/London
BEGIN:DAYLIGHT
TZOFFSETFROM:+0000
TZOFFSETTO:+0100
TZNAME:BST
DTSTART:19700329T010000
RRULE:FREQ=YEARLY;BYMONTH=3;BYDAY=-1SU
END:DAYLIGHT
BEGIN:STANDARD
TZOFFSETFROM:+0100
TZOFFSETTO:+0000
TZNAME:GMT
DTSTART:19701025T020000
RRULE:FREQ=YEARLY;BYMONTH=10;BYDAY=-1SU
END:STANDARD
END:VTIMEZONE
BEGIN:VEVENT
UID:4626108:Event:8813
DTSTAMP:20260422T172223Z
SUMMARY:MEMBER PROMO: Marketing Question Time Breakfast, Dorking
DESCRIPTION:Marketing Question Time at Wotton House\n\n Why should yo
 u attend?\nWhere do you go for quality marketing advice? Your options 
 are limited. Marketing question time gives you an opportunity to ask y
 our burning marketing questions, debate topics and to hear what challe
 nges others are facing in today's changing market.\nJoin us at this fa
 bulous venue to grill our panel of marketing experts. Our experts will
  be ready to give you free advice to help you tackle your branding, ma
 rketing planning, online and social media marketing, lead generation, 
 PR and business networking challenges.\nWho should attend?\nThis event
  is aimed at marketers and small business owners. We aim to provide th
 oughtful debate and practical advice for the audience.\nNetworking & r
 efreshments in a fabulous location...\nCome along and enjoy the debate
  at this amazing venue. We will be providing refreshments with tasty b
 acon rolls or croissants whilst you enjoy some informal networking wit
 h like-minded people.\nWhen & what time?\nWednesday 16th March 2011Reg
 istration with networking breakfast is from 08:30; the debate begins p
 romptly at 09:30 and finishes at 11:30\nCOST: CIM Members = £15 / Gue
 sts = £20 = All welcome!\nCLICK HERE TO BOOK and view our panel of e
 xperts\nMAP\n\nFor more information visit https://networkinginsurrey.c
 o.uk/events/member-promo-marketing-1
DTSTART;TZID=Europe/London:20110316T083000
DTEND;TZID=Europe/London:20110316T113000
CATEGORIES:networking, talk, seminar, business_networking_surrey, morn
 ing, dorking, surrey
LOCATION:Wotton House Conference Centre
WEBSITE:http://www.cim.co.uk/Events/EventDetail.aspx?ObjectID=38188
URL:http://www.cim.co.uk/Events/EventDetail.aspx?ObjectID=38188
CONTACT:01306 730000
ORGANIZER:CIM Surrey branch (Vice Chair: Sarah Orchard)
ATTACH;FMTTYPE="image/jpeg":http://storage.ning.com/topology/rest/1.0/
 file/get/2591389846?profile=original
ATTENDEE;ROLE=REQ-PARTICIPANT;PARTSTAT=ACCEPTED;RSVP=TRUE;CN="Lynzi As
 hworth":https://networkinginsurrey.co.uk/profile/LynziAshworth
ATTENDEE;ROLE=REQ-PARTICIPANT;PARTSTAT=ACCEPTED;RSVP=TRUE;CN="Sarah Or
 chard":https://networkinginsurrey.co.uk/profile/SarahOrchard
END:VEVENT
END:VCALENDAR
