BEGIN:VCALENDAR
PRODID:NingEventWidget-v1
VERSION:2.0
METHOD:PUBLISH
BEGIN:VTIMEZONE
TZID:Europe/London
X-LIC-LOCATION:Europe/London
BEGIN:DAYLIGHT
TZOFFSETFROM:+0000
TZOFFSETTO:+0100
TZNAME:BST
DTSTART:19700329T010000
RRULE:FREQ=YEARLY;BYMONTH=3;BYDAY=-1SU
END:DAYLIGHT
BEGIN:STANDARD
TZOFFSETFROM:+0100
TZOFFSETTO:+0000
TZNAME:GMT
DTSTART:19701025T020000
RRULE:FREQ=YEARLY;BYMONTH=10;BYDAY=-1SU
END:STANDARD
END:VTIMEZONE
BEGIN:VEVENT
UID:4626108:Event:100434
DTSTAMP:20260424T173347Z
SUMMARY:MEMBER PROMO: 'Learn2Love LinkedIn' Morning Workshop, Cobham
DESCRIPTION:Learn2Love LinkedIn Morning Workshop at the Fairmile\r\n\r
 \n[PLEASE NOTE: You are viewing our Morning Workshop Session - if you
  would prefer to come to the same-day Afternoon Workshop then please
  click here to book...]\r\nLinkedIn is the world's largest business ne
 twork, with over 500 million Members and 2 new Profiles being created 
 every second!\r\nLinkedIn was radically overhauled in February 2017 un
 der new owners Microsoft. Now they're rolling out a radical new look a
 gain so if you haven't been onto the platform recently you, may not ev
 en recognise it! You 'll find the way the the site works has changed t
 oo, so you may not be able to find the functions and settings you're f
 amiliar with. \r\nThis informal Workshop introduces the power of Link
 edIn as a business and marketing tool, and shows how it can help you t
 o increase your customer base, and build an online presence with globa
 l visibility for your business.\r\nPlease click to see the Course Det
 ails...\r\nKeith Grover is a Certified Trainer with Really Connect, th
 e world's biggest LinkedIn training organisation. This 'Learn2Love Lin
 kedIn' Workshop introduces many of the topics, tips and techniques whi
 ch are covered in Really Connect's powerful 'Social Selling with Linke
 dIn' one-day courses (which cost £497 + VAT). A quick search for loc
 al LinkedIn courses featured on Eventbrite reveals typical course fees
  ranging from £60 - £175[.\r\nThis Workshop is offered at an unbeata
 ble price - and there's even a discount if you're quick (see below).
 \r\nThe venue only allows for a maximum of 12 attendees, so early book
 ing is strongly recommended! \r\nBOOKING: Please CLICK HERE to secu
 re your place\r\nCOST: £49 \r\nEarlybird (book by 17 September) on
 ly £37.50 \r\n**NiS Members attending can claim a free 15-minute Pr
 ofile review with Keith\r\nMAP\r\nAmple free parking\r\n[***You can st
 ay on and join us for our WorkingLunch session on Networking Skills an
 d Tips with no meeting fee - just buy your own lunch at the bar - cli
 ck here for details]\r\n \n\nFor more information visit https://netwo
 rkinginsurrey.co.uk/events/member-promo-learn2love-linkedin-morning-wo
 rkshop-cobham-1
DTSTART;TZID=Europe/London:20180920T100000
DTEND;TZID=Europe/London:20180920T123000
CATEGORIES:workshop, afternoon, cobham
LOCATION:The Fairmile and Premier Inn KT11 1BQ
WEBSITE:
URL:
CONTACT:01932 843814
ORGANIZER;CN="Keith Grover, NiS Founder":https://networkinginsurrey.co
 .uk/profile/KeithGrover
ATTACH;FMTTYPE="image/jpeg":http://storage.ning.com/topology/rest/1.0/
 file/get/2591471854?profile=original
ATTENDEE;ROLE=REQ-PARTICIPANT;PARTSTAT=ACCEPTED;RSVP=TRUE;CN="Keith Gr
 over, NiS Founder":https://networkinginsurrey.co.uk/profile/KeithGrove
 r
ATTENDEE;ROLE=REQ-PARTICIPANT;PARTSTAT=ACCEPTED;RSVP=TRUE;CN="Lord Ham
 ilton of Glencoe":https://networkinginsurrey.co.uk/profile/BrianIanHam
 ilton
END:VEVENT
END:VCALENDAR
