BEGIN:VCALENDAR
PRODID:NingEventWidget-v1
VERSION:2.0
METHOD:PUBLISH
BEGIN:VTIMEZONE
TZID:Europe/London
X-LIC-LOCATION:Europe/London
BEGIN:DAYLIGHT
TZOFFSETFROM:+0000
TZOFFSETTO:+0100
TZNAME:BST
DTSTART:19700329T010000
RRULE:FREQ=YEARLY;BYMONTH=3;BYDAY=-1SU
END:DAYLIGHT
BEGIN:STANDARD
TZOFFSETFROM:+0100
TZOFFSETTO:+0000
TZNAME:GMT
DTSTART:19701025T020000
RRULE:FREQ=YEARLY;BYMONTH=10;BYDAY=-1SU
END:STANDARD
END:VTIMEZONE
BEGIN:VEVENT
UID:4626108:Event:69585
DTSTAMP:20260422T054405Z
SUMMARY:MEMBER PROMO: 'Learn2Love LinkedIn' Morning Workshop, Guildfor
 d
DESCRIPTION:Learn2LoveLinkedIn Morning Workshop & Networking Lunch at 
 The Onslow Arms\n\nLinkedIn is the world's largest business network, w
 ith over 300 million Members and 2 new Profiles being created every se
 cond!\nThis 120-minute Workshop introduces the power of (free) LinkedI
 n as a business and marketing tool, and shows how it can help you to i
 ncrease your customer base, and build an online presence with global v
 isibility for your business.\n\nIs your profile easily found, up-to-da
 te and so compelling that people will want to connect and do business 
 with you?\n\nKeith Grover is a Certified Trainer with Really Connect, 
 the world's biggest LinkedIn training organisation. This 'Learn2Love L
 inkedIn' Workshop covers many of the topics, tips and techniques in Re
 ally Connect's powerful 'Social Selling with LinkedIn' one-day courses
  (which cost £497 + VAT).\nThis event is organised by Sally Rule Dire
 ctor of Residential Property Search and is held in the upstairs traini
 ng room at the Onslow Arms, a traditional country pub. We'll be stayin
 g on for lunch afterwards so if you'd like to join us for a chat and m
 ore networking, you're welcome!\n\nDo you know how to create a Company
  Page (free) and use LinkedIn for blogging (free)?\n\n\"Your course wa
 s very good - for the first time in 4 years I am starting to understan
 d the point of Linkedin. There is so much to it I have decided to spen
 d a little bit of each day using it and developing connections etc.\" 
 John Edward, Bestmortgage4U\n\nCan you find details of any prospect (a
 nd new prospects you never knew existed) using LinkedIn's powerful (fr
 ee) Advanced Search?\n\nThis introductory Workshop is offered at an ir
 resistible price. The venue only allows for a maximum of 20 attendees,
  so early booking is strongly recommended! (Waiting list when full)\nB
 OOKING:Please CLICK HERE to book your place (if sold out, please email
  sally@sallyrule.com to go on the waiting list).\nCOST: £40 per per
 son\nBOOKING: Please CLICK HERE to book your place\nMAP\nAmple free pa
 rking\n\n\nFor more information visit https://networkinginsurrey.co.uk
 /events/member-promo-learn2love-linkedin-afternoon-workshop-cobham-4
DTSTART;TZID=Europe/London:20141203T093000
DTEND;TZID=Europe/London:20141203T120000
CATEGORIES:workshop, morning, guildford, linkedin
LOCATION:The Onslow Arms
WEBSITE:
URL:
CONTACT:Keith Grover 01932 845814
ORGANIZER:Sally Rule
ATTACH;FMTTYPE="image/jpeg":http://storage.ning.com/topology/rest/1.0/
 file/get/2591425947?profile=original
ATTENDEE;ROLE=REQ-PARTICIPANT;PARTSTAT=ACCEPTED;RSVP=TRUE;CN="Keith Gr
 over, NiS Founder":https://networkinginsurrey.co.uk/profile/KeithGrove
 r
END:VEVENT
END:VCALENDAR
