BEGIN:VCALENDAR
PRODID:NingEventWidget-v1
VERSION:2.0
METHOD:PUBLISH
BEGIN:VTIMEZONE
TZID:Europe/London
X-LIC-LOCATION:Europe/London
BEGIN:DAYLIGHT
TZOFFSETFROM:+0000
TZOFFSETTO:+0100
TZNAME:BST
DTSTART:19700329T010000
RRULE:FREQ=YEARLY;BYMONTH=3;BYDAY=-1SU
END:DAYLIGHT
BEGIN:STANDARD
TZOFFSETFROM:+0100
TZOFFSETTO:+0000
TZNAME:GMT
DTSTART:19701025T020000
RRULE:FREQ=YEARLY;BYMONTH=10;BYDAY=-1SU
END:STANDARD
END:VTIMEZONE
BEGIN:VEVENT
UID:4626108:Event:78326
DTSTAMP:20260425T145401Z
SUMMARY:MEMBER PROMO: 'Learn2Love LinkedIn' Afternoon Workshop, Cobham
DESCRIPTION:Learn2Love LinkedIn Morning & Afternoon Workshops at The F
 airmile\n\nCAN'T MAKE IT THIS AFTERNOON? TAKE A LOOK AT THE MORNING OP
 TIONÂ (CLICK HERE...Â )\nLinkedIn is the world's largest business netw
 ork, with overÂ 400 million MembersÂ and 2 new Profiles being createdÂ
  every second!\nIf you think it's just a repository for CV's for jobse
 eers and recruiters... think again. LinkedIn gives you aÂ free profess
 ional websiteÂ + aÂ free company websiteÂ + aÂ directoryÂ of everybody
  in business + aÂ free blogging platformÂ +Â powerful SEO, andÂ much m
 ore...\nThis 2-hour Workshop introduces the power of (free) LinkedIn a
 s a business and marketing tool, and shows how you can use it to incre
 ase your customer base, and build an online presence with global visib
 ility for your business.\nKeith Grover is a Certified Trainer with Rea
 lly Connect, the world's biggest LinkedIn training organisation. ThisÂ
  'Learn2Love LinkedIn'Â Workshop covers many of the topics, tips and t
 echniques in Really Connect's powerful 'Social Selling with LinkedIn' 
 one-day courses (which cost Â£497 + VAT).Â \n\"Your course was very go
 od - for the first time in 4 years I am starting to understand the poi
 nt of Linkedin.Â There is so much to it I have decided to spend a litt
 le bit of each day using it and developing connections etc.\"Â John Ed
 ward,Â Bestmortgage4U\nThis introductory Workshop sold out last time.Â
  The venue only allows for a maximum of 15 attendees, so early booking
  is strongly recommended!Â \nBOOKING:Â PleaseÂ CLICK HEREÂ to book you
 r place Â (if sold out, please emailÂ keith@networkinginsurrey.co.ukÂ 
 to go on the waiting list).\nCOST:Â Â£39Â \n** Earlybird offerÂ - book
  by Friday 15 April - justÂ Â£27Â (for theÂ first 7 placesÂ bookedÂ - 
 Â secure yoursÂ now here on Eventbrite!)Â \nMAP\nAmple free parking\nF
 INDING THE VENUE: Please use KT11 1BW as the postcode for Google Maps 
 to locate the FairmileÂ between Esher and Cobham on the A307 Portsmout
 h RoadÂ \nÂ \n\nFor more information visit https://networkinginsurrey.
 co.uk/events/member-promo-learn2love-linkedin-afternoon-workshop-cobha
 m-3
DTSTART;TZID=Europe/London:20160419T141500
DTEND;TZID=Europe/London:20160419T161500
CATEGORIES:workshop, afternoon, cobham
LOCATION:The Fairmile & Premier Inn KT11 1BQ
WEBSITE:
URL:
CONTACT:01932 843814
ORGANIZER;CN="Keith Grover, NiS Founder":https://networkinginsurrey.co
 .uk/profile/KeithGrover
ATTACH;FMTTYPE="image/jpeg":http://storage.ning.com/topology/rest/1.0/
 file/get/2591425947?profile=original
ATTENDEE;ROLE=REQ-PARTICIPANT;PARTSTAT=ACCEPTED;RSVP=TRUE;CN="Keith Gr
 over, NiS Founder":https://networkinginsurrey.co.uk/profile/KeithGrove
 r
END:VEVENT
END:VCALENDAR
