BEGIN:VCALENDAR
PRODID:NingEventWidget-v1
VERSION:2.0
METHOD:PUBLISH
BEGIN:VTIMEZONE
TZID:Europe/London
X-LIC-LOCATION:Europe/London
BEGIN:DAYLIGHT
TZOFFSETFROM:+0000
TZOFFSETTO:+0100
TZNAME:BST
DTSTART:19700329T010000
RRULE:FREQ=YEARLY;BYMONTH=3;BYDAY=-1SU
END:DAYLIGHT
BEGIN:STANDARD
TZOFFSETFROM:+0100
TZOFFSETTO:+0000
TZNAME:GMT
DTSTART:19701025T020000
RRULE:FREQ=YEARLY;BYMONTH=10;BYDAY=-1SU
END:STANDARD
END:VTIMEZONE
BEGIN:VEVENT
UID:4626108:Event:101211
DTSTAMP:20260422T025354Z
SUMMARY:MEMBER PROMO: 'Learn2Love LinkedIn' Afternoon Workshop, Cobham
DESCRIPTION:Learn2Love LinkedIn Afternoon Workshop at the Fairmile\r\n
 \r\n[PLEASE NOTE: You are viewing our Afternoon Workshop Session - if
  you would prefer to come to the same-day Morning Workshop then please
  click here for details...]\r\nLinkedIn is the world's largest busine
 ss network, with over 500 million Members and 2 new Profiles being cre
 ated every second!\r\nLinkedIn was radically overhauled in February 20
 17 under new owners Microsoft. Now they're rolling out a radical new l
 ook again so if you haven't been onto the platform recently you, may n
 ot even recognise it! You 'll find the way the the site works has chan
 ged too, so you may not be able to find the functions and settings you
 're familiar with. \r\nThis informal Workshop introduces the power of
  LinkedIn as a business and marketing tool, and shows how it can help 
 you to increase your customer base, and build an online presence with 
 global visibility for your business.\r\nPlease click here to see the 
 Course Details...\r\nKeith Grover is a Certified Trainer with Really C
 onnect, the world's biggest LinkedIn training organisation. This 'Lear
 n2Love LinkedIn' Workshop introduces many of the topics, tips and tech
 niques which are covered in Really Connect's powerful 'Social Selling 
 with LinkedIn' one-day courses (which cost £497 + VAT). A quick sear
 ch for local LinkedIn courses featured on Eventbrite reveals typical c
 ourse fees ranging from £120 - £175.\r\nThis Workshop is offered at 
 an unbeatable price - and there's even a discount if you're quick (s
 ee below).\r\nThe venue only allows for a maximum of 10 attendees, so 
 early booking is strongly recommended! \r\nBOOKING: Please CLICK HER
 E to secure your place\r\nCOST: £49 \r\nEarlybird (book by 31 Octo
 ber) only £37.50 \r\n**NiS Members attending can claim a free 15-m
 inute Profile review with Keith\r\nMAP\r\nAmple free parking\r\n[You c
 an come a little earlier and join us for our WorkingLunch session on N
 etworking Skills and Tips with no meeting fee - just buy your own lunc
 h at the bar - click here for details]\r\n \n\nFor more information 
 visit https://networkinginsurrey.co.uk/events/member-promo-learn2love-
 linkedin-afternoon-workshop-cobham-11
DTSTART;TZID=Europe/London:20181108T140000
DTEND;TZID=Europe/London:20181108T163000
CATEGORIES:workshop, afternoon, cobham
LOCATION:The Fairmile and Premier Inn KT11 1BQ
WEBSITE:
URL:
CONTACT:01932 843814
ORGANIZER;CN="Keith Grover, NiS Founder":https://networkinginsurrey.co
 .uk/profile/KeithGrover
ATTACH;FMTTYPE="image/jpeg":http://storage.ning.com/topology/rest/1.0/
 file/get/2591471854?profile=original
ATTENDEE;ROLE=REQ-PARTICIPANT;PARTSTAT=ACCEPTED;RSVP=TRUE;CN="Lord Ham
 ilton of Glencoe":https://networkinginsurrey.co.uk/profile/BrianIanHam
 ilton
ATTENDEE;ROLE=REQ-PARTICIPANT;PARTSTAT=ACCEPTED;RSVP=TRUE;CN="Keith Gr
 over, NiS Founder":https://networkinginsurrey.co.uk/profile/KeithGrove
 r
END:VEVENT
END:VCALENDAR
