BEGIN:VCALENDAR
PRODID:NingEventWidget-v1
VERSION:2.0
METHOD:PUBLISH
BEGIN:VTIMEZONE
TZID:Europe/London
X-LIC-LOCATION:Europe/London
BEGIN:DAYLIGHT
TZOFFSETFROM:+0000
TZOFFSETTO:+0100
TZNAME:BST
DTSTART:19700329T010000
RRULE:FREQ=YEARLY;BYMONTH=3;BYDAY=-1SU
END:DAYLIGHT
BEGIN:STANDARD
TZOFFSETFROM:+0100
TZOFFSETTO:+0000
TZNAME:GMT
DTSTART:19701025T020000
RRULE:FREQ=YEARLY;BYMONTH=10;BYDAY=-1SU
END:STANDARD
END:VTIMEZONE
BEGIN:VEVENT
UID:4626108:Event:13631
DTSTAMP:20260422T114458Z
SUMMARY:MEMBER PROMO Launch Dinner: Powerhouse Boards, Reigate
DESCRIPTION:Launch Dinner at Kingswood Golf Club \nPowerhouse Boards 
 is about business growth. Your place at the Board table means you ha
 ve not only secured the support, but have locked out your competitors.
  That’s just the start of your competitive advantage.\nPowerhouse al
 so helps you to challenge effectively, and work on your business and o
 n those of fellow Board members. Working collaboratively means you exc
 hange ideas, skills, knowledge and experience. You effectively have a 
 board of directors working ON your business with you.\nThis open launc
 h evening is your opportunity to experience the power of the Board at 
 first hand, with no risk.\nThe event cost includes a pre-meeting one-o
 n-one business coaching session with our MD, NiS Member Karen Purves. 
 Using information from that session, you'll receive a membership propo
 sal and have crafted your question for tabling at the board meeting.\n
 COST: £149 (including dinner and pre-event coaching session)\nBOOKIN
 G: To make sure that a Powerhouse Board offers you real value and wil
 l produce a significant return on investment (ROI) for your business, 
 call Karen for a brief exploratory chat. If you decide it's of mutual
  interest for you to attend the open launch event (without obligati
 on), Karen will book you in and arrange your pre-event coaching sessio
 n... \nOpen Evening Guarantee: If you feel after the open evening, yo
 u didn’t get any practical ideas, tips, and options to address your 
 business issue either from the board meeting or the business coaching 
 session, we will refund your payment, less the cost of the meal. No qu
 ibble, no fuss!\n-----------------------------------------------------
 ---\nPowerhouse gives you the board structure, experience of larger co
 mpanies without the expense of recruiting Non-executive directors. \n
 Powerhouse Membership includes a modular executive education programme
  developed by leaders in their field so each business owner adds to th
 eir skill base for growing the business. This will give you the tools
  and skills to be effective as a non exec director for your peers, as 
 they increase their effectiveness for your business.\n\nFor more infor
 mation visit https://networkinginsurrey.co.uk/events/member-promo-laun
 ch-dinner
DTSTART;TZID=Europe/London:20110509T180000
DTEND;TZID=Europe/London:20110509T190000
CATEGORIES:launch, dinner
LOCATION:Kingswood Golf and Country Club KT20 6NE
WEBSITE:
URL:
CONTACT:
ORGANIZER:Karen Purves
ATTACH;FMTTYPE="image/jpeg":http://storage.ning.com/topology/rest/1.0/
 file/get/2591392044?profile=original
ATTENDEE;ROLE=REQ-PARTICIPANT;PARTSTAT=ACCEPTED;RSVP=TRUE;CN="Max Wrig
 ht":https://networkinginsurrey.co.uk/profile/MaxWright
ATTENDEE;ROLE=REQ-PARTICIPANT;PARTSTAT=ACCEPTED;RSVP=TRUE;CN="Keith Gr
 over, NiS Founder":https://networkinginsurrey.co.uk/profile/KeithGrove
 r
END:VEVENT
END:VCALENDAR
