BEGIN:VCALENDAR
PRODID:NingEventWidget-v1
VERSION:2.0
METHOD:PUBLISH
BEGIN:VTIMEZONE
TZID:Europe/London
X-LIC-LOCATION:Europe/London
BEGIN:DAYLIGHT
TZOFFSETFROM:+0000
TZOFFSETTO:+0100
TZNAME:BST
DTSTART:19700329T010000
RRULE:FREQ=YEARLY;BYMONTH=3;BYDAY=-1SU
END:DAYLIGHT
BEGIN:STANDARD
TZOFFSETFROM:+0100
TZOFFSETTO:+0000
TZNAME:GMT
DTSTART:19701025T020000
RRULE:FREQ=YEARLY;BYMONTH=10;BYDAY=-1SU
END:STANDARD
END:VTIMEZONE
BEGIN:VEVENT
UID:4626108:Event:2400
DTSTAMP:20260425T161453Z
SUMMARY:MEMBER PROMO: 'How to create a Blog that'll win you Business' 
 Workshop : Thu, 17th June
DESCRIPTION:Blogging is quite possibly the most powerful marketing too
 l you have at your disposal.\n\nWork out how to do it correctly and yo
 u'll build relationships with clients and prospective clients, positio
 n yourself as an expert and drive traffic to your site.\n\nBut how can
  you be sure anyone's actually reading what you're writing? And do you
  turn your ramblings into a business opportunity?\n\nJoin Fiona Humber
 stone and Tom Evans on a day-long workshop in Ripley, Surrey on 17th J
 une to discover how you can turn your blog into a client magnet.\n\nDa
 te : Thursday 17th June, 2010\nTime : 9.15 am - 4.00 pm\nLocation : Th
 e Talbot Inn, Ripley, Surrey, GU23 6BB\nPrice : £147 plus VAT\n\nSpec
 ial Offer : Book two weeks or more in advance and save £20. Discount 
 automatically added at check-out.\n\nWho should attend?\nThis workshop
  is for business owners and marketing consultants who are tired of see
 ing their blogs languishing in a dusty corner of their website and wan
 t to understand how to start using them to bring you in business.\n\nY
 ou probably already have a blog; perhaps you even have a nicely design
 ed blog that you've paid a bit of money for. But you need some inspira
 tion and practical guidance on how you're going to get this \"thing\" 
 working for you.\n\nBlogging is one of the best tools you can use if y
 ou're serious about getting clients to come to you, rather than you ha
 ving to go to them. And it works just as well whether you're selling a
  product or service, business-to-business or business-to-consumer.\n\n
 What you'll learn:\n- Where to start: how to write a post, assign cate
 gories and link to your Twitter and LinkedIn profiles\n- Blog design t
 ips - how to create gorgeous looking posts\n- What to write about, how
  often and how to clear your writer's block\n- How to know whether peo
 ple are reading what you're writing; and liking what you're saying\n- 
 How to generate comments\n- How to promote your blog and drive traffic
  to it\n- How to use your blog to generate enquiries for your business
 , without blatantly selling (which we all know turns people off)\n- Th
 e importance of a good title, and how to write one to bring real peopl
 e and SEO traffic to your site\n- How to write a killer post\n- Why yo
 u need to know what taxonomy means and why your blog should have one\n
 \nWhat you get:\n- A Marvellous Workshops folder complete with the cou
 rse notes\n- Two weeks email support\n- Two weeks telephone support\n-
  Insight, inspiration and practical tips from people who have created 
 profitable blogs from scratch\n- Plenty of refreshments including tea,
  coffee, homemade biscuits, a delicious two course buffet lunch and af
 ternoon tea with homemade cakes\n- Free wireless internet access at th
 e hotel where you are welcome to stay for the rest of the day\n- Disco
 unted rates on rooms at the hotel should you wish to stay\n\nTo Book &
  Further Information\n\nhttp://www.flourishstudios.co.uk/workshops/wor
 kshops/blogging/\n\nAlternatively, please call us on 01483 401 818.\n\
 nFor more information visit https://networkinginsurrey.co.uk/events/me
 mber-promo-how-to-create-a
DTSTART;TZID=Europe/London:20100617T091500
DTEND;TZID=Europe/London:20100617T160000
CATEGORIES:workshop, member, promotion
LOCATION:The Talbot Inn
WEBSITE:http://www.flourishstudios.co.uk/workshops/contact/venue/
URL:http://www.flourishstudios.co.uk/workshops/contact/venue/
CONTACT:http://www.flourishstudios.co.uk/workshops/workshops/blogging/
ORGANIZER:Fiona Humberstone
ATTACH;FMTTYPE="image/jpeg":
ATTENDEE;ROLE=REQ-PARTICIPANT;PARTSTAT=ACCEPTED;RSVP=TRUE;CN="Rona Whe
 eldon":https://networkinginsurrey.co.uk/profile/RonaWheeldon
END:VEVENT
END:VCALENDAR
