BEGIN:VCALENDAR
PRODID:NingEventWidget-v1
VERSION:2.0
METHOD:PUBLISH
BEGIN:VTIMEZONE
TZID:Europe/London
X-LIC-LOCATION:Europe/London
BEGIN:DAYLIGHT
TZOFFSETFROM:+0000
TZOFFSETTO:+0100
TZNAME:BST
DTSTART:19700329T010000
RRULE:FREQ=YEARLY;BYMONTH=3;BYDAY=-1SU
END:DAYLIGHT
BEGIN:STANDARD
TZOFFSETFROM:+0100
TZOFFSETTO:+0000
TZNAME:GMT
DTSTART:19701025T020000
RRULE:FREQ=YEARLY;BYMONTH=10;BYDAY=-1SU
END:STANDARD
END:VTIMEZONE
BEGIN:VEVENT
UID:4626108:Event:14615
DTSTAMP:20260424T075427Z
SUMMARY:MEMBER PROMO GUEST EVENT: View from the Top 3-Day Retreat, Sno
 wdonia
DESCRIPTION:Take your business to new heights\n\nRunning your own busi
 ness can be challenging can’t it?\nAnd I know from my own personal e
 xperience and that of my clients that starting and running your own su
 ccessful and authentic business is harder, and usually takes longer, t
 han you first thought.\nMost service professionals find that the bigge
 st challenge is that the product they are marketing is themselves, and
  this hits our hot buttons of self-belief, self-confidence, fear of fa
 ilure and not being good enough. \nHaving experienced this rollercoas
 ter journey first hand and transformed my beliefs, fears and insecurit
 ies into inspiration and motivation, I understand what is at the heart
  of unleashing your true potential and allowing yourself to experience
  the business success you deserve.\nView from the Top is a unique moun
 tain retreat experience that takes you away from your ordinary world a
 nd guides you onto your own authentic path of confidence, freedom, ins
 piration and self-belief. This unique experience is for you if you:\n\
 nFeel stuck in your business and know you have so much more to give\nF
 eel that you need more belief in yourself and your services\nLack the 
 clarity you need to make your business fly\nHave veered off of your or
 iginal path and not sure why\nFeel bogged down with the day-to-day run
 ning of your business and it’s holding you back\n\nThis energising r
 etreat takes place in Snowdonia where reaching the top of Mount Snowdo
 n becomes the metaphor for achieving your business goal. As we walk th
 e beautiful paths towards the peak, there will be ample time and the p
 erfect environment for reflection, discovery, personal coaching and bu
 ilding a clear and compelling vision for your business.\nAnd when you 
 return from your amazing journey, not only will you have transformed y
 our mind-set, you will have a whole set of fantastic memories and powe
 rful anchors that you can use on your future journey to keep you inspi
 red, motivated and on-track with your business.\nAnd by the end of thi
 s transformation business break-through experience, you will have in a
 bundance:\n\nAll the Confidence and self-belief that you need to take 
 your business to new heights\nThe Clarity to present yourself and your
  services with confidence, flair and authenticity\nThe Courage to brea
 k through your self-imposed boundaries and leap confidently into new t
 erritory\nCreativity – you will have unleashed your innate creative 
 spirit and expression\nA Compelling Vision for your business that will
  inspire and motivate you to take your business to the next level\nDee
 p Connections with both your fellow travellers and entrepreneurs and w
 ith nature.\n\nYou’ve taken the first steps, now it’s time to Stri
 de Ahead and enjoy the view from the top!\nPlaces are limited to just 
 six people on each experience so make you are one of the lucky ones.\n
 Don’t just dream about a fantastic business, make it a reality.\nDat
 es:      June 11th - 13th\nSeptember 17th - 19th\nLocation: Betws
  y Coed, Snowdonia\nAccommodation: Comfortable cottage/retreat style a
 ccommodation fully catered for the whole 3 days.\nClick here for furth
 er info and to book\n\nFor more information visit https://networkingin
 surrey.co.uk/events/member-promo-guest-event-view
DTSTART;TZID=Europe/London:20110611T170000
DTEND;TZID=Europe/London:20110613T170000
CATEGORIES:business, development, retreat
LOCATION:Snowdonia
WEBSITE:http://www.striding-ahead.co.uk
URL:http://www.striding-ahead.co.uk
CONTACT:07950 956 971
ORGANIZER;CN="Jenny Littlejohn":https://networkinginsurrey.co.uk/profi
 le/JennyLittlejohn
ATTACH;FMTTYPE="image/jpeg":http://storage.ning.com/topology/rest/1.0/
 file/get/2591391913?profile=original
ATTENDEE;ROLE=REQ-PARTICIPANT;PARTSTAT=ACCEPTED;RSVP=TRUE;CN="Jenny Li
 ttlejohn":https://networkinginsurrey.co.uk/profile/JennyLittlejohn
END:VEVENT
END:VCALENDAR
