BEGIN:VCALENDAR
PRODID:NingEventWidget-v1
VERSION:2.0
METHOD:PUBLISH
BEGIN:VTIMEZONE
TZID:Europe/London
X-LIC-LOCATION:Europe/London
BEGIN:DAYLIGHT
TZOFFSETFROM:+0000
TZOFFSETTO:+0100
TZNAME:BST
DTSTART:19700329T010000
RRULE:FREQ=YEARLY;BYMONTH=3;BYDAY=-1SU
END:DAYLIGHT
BEGIN:STANDARD
TZOFFSETFROM:+0100
TZOFFSETTO:+0000
TZNAME:GMT
DTSTART:19701025T020000
RRULE:FREQ=YEARLY;BYMONTH=10;BYDAY=-1SU
END:STANDARD
END:VTIMEZONE
BEGIN:VEVENT
UID:4626108:Event:18803
DTSTAMP:20260423T120217Z
SUMMARY:MEMBER PROMO: FREE Entrepreneur's Circle Evening, Shepperton
DESCRIPTION:Entrepreneur's Circle N Surrey at the Sunbury Golf Centre.
 \n\nThis is a hands-on interactive training meeting to help ambitious 
 business owners Grow their Business.\nIt's a great opportunity to meet
  like minded ambitious local business people.\nThe 2 hour agenda is:\n
 1 Welcome and brief Introduction of attendees to the group\n2  Your 
 successes so far this year - attendees to give a brief description of 
 what they have achieved. Don’t worry if you don’t want to do so at
  the first meeting but if you do we would love you to share any insigh
 ts with the group  \n3  The 7 Musts of Effective Marketing - Workin
 g through Nigel Botterill’s workbook together\nThis is going to be v
 ery interactive with everyone encouraged to share ideas\n4  Member of
  the Month – acknowledge a member who has made real progress with th
 eir business. If anyone can advise me of any success stories before th
 e meeting that would be appreciated\n5 What are you gonna achieve in 
 the next 4 weeks:  Attendees will be encouraged to commit to one or 
 two actions to grow the business\n6   Attendees given the opportuni
 ty to give a 30 or 60 second pitch for their business as time allows\n
 COST: FREE to Entreprenur Circle  Members\nNon-Members can attend one
  meeting Free of charge if you you register by emailing mike@sirtax.co
 .uk  or ring me on 01276 451465.\nMAP\n\nFor more information visit h
 ttps://networkinginsurrey.co.uk/events/member-promo-free
DTSTART;TZID=Europe/London:20110523T163000
DTEND;TZID=Europe/London:20110523T184500
CATEGORIES:business, growth, training, meeting
LOCATION:Sunbury Golf Centre   TW17 8QA
WEBSITE:http://www.sunburygolf.co.uk/
URL:http://www.sunburygolf.co.uk/
CONTACT:01276 451465
ORGANIZER;CN="Mike Loughton":https://networkinginsurrey.co.uk/profile/
 MikeLoughton
ATTACH;FMTTYPE="image/jpeg":http://storage.ning.com/topology/rest/1.0/
 file/get/2591393705?profile=original
ATTENDEE;ROLE=REQ-PARTICIPANT;PARTSTAT=ACCEPTED;RSVP=TRUE;CN="Mike Lou
 ghton":https://networkinginsurrey.co.uk/profile/MikeLoughton
END:VEVENT
END:VCALENDAR
