BEGIN:VCALENDAR
PRODID:NingEventWidget-v1
VERSION:2.0
METHOD:PUBLISH
BEGIN:VTIMEZONE
TZID:Europe/London
X-LIC-LOCATION:Europe/London
BEGIN:DAYLIGHT
TZOFFSETFROM:+0000
TZOFFSETTO:+0100
TZNAME:BST
DTSTART:19700329T010000
RRULE:FREQ=YEARLY;BYMONTH=3;BYDAY=-1SU
END:DAYLIGHT
BEGIN:STANDARD
TZOFFSETFROM:+0100
TZOFFSETTO:+0000
TZNAME:GMT
DTSTART:19701025T020000
RRULE:FREQ=YEARLY;BYMONTH=10;BYDAY=-1SU
END:STANDARD
END:VTIMEZONE
BEGIN:VEVENT
UID:4626108:Event:63327
DTSTAMP:20260420T091931Z
SUMMARY:MEMBER PROMO: FREE 'Successful Ecommerce' Evening, Dorking
DESCRIPTION:Learn the secrets of successful e-commerce! \n\nFind out 
 more about the latest trends in web marketing and developing - without
  the jargon! \nThis free digital briefing will cover a wide range of 
 digital marketing topics, including the best systems and software to u
 se for powering successful e-commerce sites, generating traffic, effec
 tive SEO and improving conversion rates.\nSuitable for businesses of a
 ll sizes, the briefing will address ways to reduce checkout abandonmen
 t and give an insight into the behaviours of leading retailers and wha
 t can be learnt from them.\n\n Essential for anyone in business who n
 eeds to stay ahead of the game on what’s happening in the fast-movin
 g world of digital.\nA chance to meet and network informally with othe
 r regional business leaders – in a fantastic setting – Wotton Hous
 e in Dorking.\nSpecifically for business leaders in the south of Engla
 nd, it’s an ideal opportunity to get together with other members of 
 the business community, network with other like-minded people – and 
 make sure you’re in the know about online business trends!\n\n It i
 s being hosted by experts from digital agency Advantec.\nManaging dire
 ctor Andrew Brittain commented: “It’s essential for businesses to 
 ensure that they are maximising potential sales and staying up to date
  on the latest developments in ecommerce.\n\"Our free digital briefing
  will address the key issues that firms face online and the latest tre
 nds in web marketing and developing. Importantly, we will cut through 
 the jargon.”\nCOST: FREE to attend\nBOOKING: Please click HERE to b
 ook your free place or call Nicole Taylor on 02380 561050\nMAP\n\nFor
  more information visit https://networkinginsurrey.co.uk/events/member
 -promo-free-successful-ecommerce-briefing-networking
DTSTART;TZID=Europe/London:20140213T180000
DTEND;TZID=Europe/London:20140213T210000
CATEGORIES:business, retail, online, free, digital, networking
LOCATION:Wotton House RH5 6HS
WEBSITE:https://maps.google.co.uk/maps?q=Wotton+House,+Dorking,+Surrey
 +RH5+6HS&ie=UTF-8&ei=ALjXUszzHY307Aaj0ID4Dg&ved=0CAoQ_AUoAg
URL:https://maps.google.co.uk/maps?q=Wotton+House,+Dorking,+Surrey+RH5
 +6HS&ie=UTF-8&ei=ALjXUszzHY307Aaj0ID4Dg&ved=0CAoQ_AUoAg
CONTACT:Nicole Taylor at Advantec on 02380 561 050
ORGANIZER:Advantec
ATTACH;FMTTYPE="image/jpeg":http://storage.ning.com/topology/rest/1.0/
 file/get/2591425487?profile=original
ATTENDEE;ROLE=REQ-PARTICIPANT;PARTSTAT=ACCEPTED;RSVP=TRUE;CN="Amy Arch
 er":https://networkinginsurrey.co.uk/profile/AmyArcher
END:VEVENT
END:VCALENDAR
