BEGIN:VCALENDAR
PRODID:NingEventWidget-v1
VERSION:2.0
METHOD:PUBLISH
BEGIN:VTIMEZONE
TZID:Europe/London
X-LIC-LOCATION:Europe/London
BEGIN:DAYLIGHT
TZOFFSETFROM:+0000
TZOFFSETTO:+0100
TZNAME:BST
DTSTART:19700329T010000
RRULE:FREQ=YEARLY;BYMONTH=3;BYDAY=-1SU
END:DAYLIGHT
BEGIN:STANDARD
TZOFFSETFROM:+0100
TZOFFSETTO:+0000
TZNAME:GMT
DTSTART:19701025T020000
RRULE:FREQ=YEARLY;BYMONTH=10;BYDAY=-1SU
END:STANDARD
END:VTIMEZONE
BEGIN:VEVENT
UID:4626108:Event:9601
DTSTAMP:20260422T184736Z
SUMMARY:MEMBER PROMO: FREE Morning HR Seminar, Croydon
DESCRIPTION:Recruitment and Employment Law Seminar at the Aerodrome Ho
 tel\n\nFintan O’Toole and Helen Colechin from The HR Dept will lea
 d the seminar >'Practical Tips for Recruitment and Employment Law' loo
 king at your recruitment responsibilities as an employer, including: 
 \n\nDefining the Business Requirements\n\nAttracting Candidates\n\nInt
 erviewing and Selection of the Most Suitable Candidate\n\nMaking an Of
 fer of Employment\n\n\nAs 2011 brings with it a raft of new regulation
 s for the employer to negotiate you will also receive a practical upda
 te on current legislative changes including:\n\n Abolition of the def
 ault retirement age\n\n Changes in maternity and paternity leave prov
 isions\n\n Equal treatment for agency workers\n\n Equality Act 2010 
 (new provisions effective April 2011)\n\n Bribery Act 2010: corporate
  offence introduced (effective April 2011)\n\n\nAll delegates will tak
 e away a Complimentary Information Pack .  \nTO BOOK:  Please emai
 l jane.chant@hrdept.co.uk to secure a place\nMAP\n\nFor more informat
 ion visit https://networkinginsurrey.co.uk/events/member-promo-free-mo
 rning-hr
DTSTART;TZID=Europe/London:20110315T093000
DTEND;TZID=Europe/London:20110315T113000
CATEGORIES:free, seminar, employment_law, recruitment, croydon, hr_dep
 t
LOCATION:The Aerodrome Hotel CR9 4LT
WEBSITE:http://www.hrdept.co.uk/documents/FintanseminarFINAL_001.pdf
URL:http://www.hrdept.co.uk/documents/FintanseminarFINAL_001.pdf
CONTACT:0845 634 9169
ORGANIZER;CN="Helen Colechin":https://networkinginsurrey.co.uk/profile
 /HelenColechin
ATTACH;FMTTYPE="image/jpeg":http://storage.ning.com/topology/rest/1.0/
 file/get/2533448098?profile=original
ATTENDEE;ROLE=REQ-PARTICIPANT;PARTSTAT=ACCEPTED;RSVP=TRUE;CN="Helen Co
 lechin":https://networkinginsurrey.co.uk/profile/HelenColechin
END:VEVENT
END:VCALENDAR
