BEGIN:VCALENDAR
PRODID:NingEventWidget-v1
VERSION:2.0
METHOD:PUBLISH
BEGIN:VTIMEZONE
TZID:Europe/London
X-LIC-LOCATION:Europe/London
BEGIN:DAYLIGHT
TZOFFSETFROM:+0000
TZOFFSETTO:+0100
TZNAME:BST
DTSTART:19700329T010000
RRULE:FREQ=YEARLY;BYMONTH=3;BYDAY=-1SU
END:DAYLIGHT
BEGIN:STANDARD
TZOFFSETFROM:+0100
TZOFFSETTO:+0000
TZNAME:GMT
DTSTART:19701025T020000
RRULE:FREQ=YEARLY;BYMONTH=10;BYDAY=-1SU
END:STANDARD
END:VTIMEZONE
BEGIN:VEVENT
UID:4626108:Event:15019
DTSTAMP:20260423T003137Z
SUMMARY:MEMBER PROMO: FREE Leadership Morning Workshop, Ottershaw
DESCRIPTION:Leadership Conversations at Foxhills\n\nDiscover the secre
 t art of conversations that stimulate change fuelled by responsibility
  at this stimulating free workshop in beautiful surroundings at Foxhi
 lls Resort & Spa.\nBlending learning techniques from NLP, Leadership 
 & Karate-do, you'll learn to engage people wholeheartedly in the purs
 uit of success.\nYou'll discover how to:\n\nhave conversations that aw
 aken and release the talent and energy of your people into the busines
 s\ntalk to the part that wants to believe, to stimulate leadership and
  responsibility at every level\nengage everyone in success thinking an
 d acting.\n\nClick to view the pdf flyer for this event\nCOST: Free\n
 BOOKING: For more info and to book, please click here\nMAP & DIRECTION
 S\nVENUE\n\nFor more information visit https://networkinginsurrey.co.u
 k/events/member-promo-free-leadership
DTSTART;TZID=Europe/London:20110513T090000
DTEND;TZID=Europe/London:20110513T120000
CATEGORIES:free, workshop
LOCATION:Foxhills Country Club
WEBSITE:http://www.foxhills.co.uk/about-us/contact-us.aspx
URL:http://www.foxhills.co.uk/about-us/contact-us.aspx
CONTACT:01344 872026
ORGANIZER;CN="Karen Stone":https://networkinginsurrey.co.uk/profile/Ka
 renStone
ATTACH;FMTTYPE="image/jpeg":http://storage.ning.com/topology/rest/1.0/
 file/get/2591391963?profile=original
ATTENDEE;ROLE=REQ-PARTICIPANT;PARTSTAT=ACCEPTED;RSVP=TRUE;CN="Karen St
 one":https://networkinginsurrey.co.uk/profile/KarenStone
ATTENDEE;ROLE=REQ-PARTICIPANT;PARTSTAT=TENTATIVE;RSVP=TRUE;CN="Nicola 
 Bonfanti":https://networkinginsurrey.co.uk/profile/NicolaBonfanti
END:VEVENT
END:VCALENDAR
