BEGIN:VCALENDAR
PRODID:NingEventWidget-v1
VERSION:2.0
METHOD:PUBLISH
BEGIN:VTIMEZONE
TZID:Europe/London
X-LIC-LOCATION:Europe/London
BEGIN:DAYLIGHT
TZOFFSETFROM:+0000
TZOFFSETTO:+0100
TZNAME:BST
DTSTART:19700329T010000
RRULE:FREQ=YEARLY;BYMONTH=3;BYDAY=-1SU
END:DAYLIGHT
BEGIN:STANDARD
TZOFFSETFROM:+0100
TZOFFSETTO:+0000
TZNAME:GMT
DTSTART:19701025T020000
RRULE:FREQ=YEARLY;BYMONTH=10;BYDAY=-1SU
END:STANDARD
END:VTIMEZONE
BEGIN:VEVENT
UID:4626108:Event:7253
DTSTAMP:20260422T161723Z
SUMMARY:MEMBER PROMO: FREE Evening  Health Seminar, Richmond
DESCRIPTION:IF YOU WANT TO GET 2011 OFF TO A HEALTHY START THEN YOU NE
 ED TO ATTEND THIS FREE SEMINAR.\n\nAchieve long term weight loss and m
 aintain it through balanced nutrition\nGet optimally healthy, reduce s
 tress, increase your energy and improve fitness.\nIf you are an athlet
 e stay at the top of your game and recover rapidly from injuries.Â \n\
 nSpeakers on the night:\nAndy Fox - Nutritional Medicine, Iridologist,
  and member of the Naturopathic Association.\nUzma Afzal and Prabha Sh
 iyani - Wellness Coaches.\nÂ Â Â Â Â Â Â Â Â Â Â Â Â Â Â Â Â Â Â \nÂ Â
  Â Â Â Â Â Â Â Â Â Â Â Â Â Â  Special Guest Speaker:\nHannah Beharry -
  UK's No 1. Female Boxer.\nÂ \nPlaces are limited so please call to bo
 ok your place:\nÂ Â Â Â Â Â Â Â Â Â Â Â Â Â Â Â Â Â Â  \nÂ Â Â Â Â Â Â
  Â Â TEL: 07789 866033 OR\nEMAIL: NutritionalTherapy@Usana.com\nÂ \n\n
 Â \n\nFor more information visit https://networkinginsurrey.co.uk/even
 ts/member-promo-free-evening
DTSTART;TZID=Europe/London:20110202T190000
DTEND;TZID=Europe/London:20110202T213000
CATEGORIES:free, health, wellness, seminar, richmond
LOCATION:LONDON WELSH RUGBY CLUB, OLD DEER PARK TW9 2AZ
WEBSITE:http://www.london-welsh.co.uk
URL:http://www.london-welsh.co.uk
CONTACT:07789 866033
ORGANIZER;CN="Uzma Zaidi":https://networkinginsurrey.co.uk/profile/Uzm
 aAfzal
ATTACH;FMTTYPE="image/jpeg":http://storage.ning.com/topology/rest/1.0/
 file/get/2591389807?profile=original
ATTENDEE;ROLE=REQ-PARTICIPANT;PARTSTAT=ACCEPTED;RSVP=TRUE;CN="Uzma Zai
 di":https://networkinginsurrey.co.uk/profile/UzmaAfzal
END:VEVENT
END:VCALENDAR
