BEGIN:VCALENDAR
PRODID:NingEventWidget-v1
VERSION:2.0
METHOD:PUBLISH
BEGIN:VTIMEZONE
TZID:Europe/London
X-LIC-LOCATION:Europe/London
BEGIN:DAYLIGHT
TZOFFSETFROM:+0000
TZOFFSETTO:+0100
TZNAME:BST
DTSTART:19700329T010000
RRULE:FREQ=YEARLY;BYMONTH=3;BYDAY=-1SU
END:DAYLIGHT
BEGIN:STANDARD
TZOFFSETFROM:+0100
TZOFFSETTO:+0000
TZNAME:GMT
DTSTART:19701025T020000
RRULE:FREQ=YEARLY;BYMONTH=10;BYDAY=-1SU
END:STANDARD
END:VTIMEZONE
BEGIN:VEVENT
UID:4626108:Event:47761
DTSTAMP:20260425T190447Z
SUMMARY:FREE Entrepreneur's Circle Evening, Shepperton
DESCRIPTION:Procrastination - Disease of the Poor\n\nThe 8 Secrets to 
 tackling your demons and getting stuff done!\nWe all do it - we all pu
 t stuff off - some of us are world class procrastinators and some of u
 s are just 'semi pro' - BUT we all do it...\nIt is a real issue though
  - the only way to build a business is to stop putting stuff off and g
 et it done which is often the key behind those that make money and tho
 se that don't.\nIn this session we will look at what makes us procrast
 inate, what we can do about it and how to change our habits with some 
 really practical tools to help you overcome your procrastination demon
 s and make your time super productive.\nCOST: FREE to Entrepreneurs 
 Circle Members\nBOOKING: Non-Members can attend one meeting free of ch
 arge if you you register by emailing mike@sirtax.co.uk  or ring me o
 n 01276 451465\nMAP\n\nFor more information visit https://networkingin
 surrey.co.uk/events/member-promo-free-entrepreneur-s-circle-evening
DTSTART;TZID=Europe/London:20120917T163000
DTEND;TZID=Europe/London:20120917T190000
CATEGORIES:business, growth, traing, meeting
LOCATION:Sunbury Golf Centre Shepperton TW17 8QA
WEBSITE:http://www.nigelbotterill.co.uk
URL:http://www.nigelbotterill.co.uk
CONTACT:01276 451465
ORGANIZER;CN="Mike Loughton":https://networkinginsurrey.co.uk/profile/
 MikeLoughton
ATTACH;FMTTYPE="image/jpeg":http://storage.ning.com/topology/rest/1.0/
 file/get/2591393705?profile=original
ATTENDEE;ROLE=REQ-PARTICIPANT;PARTSTAT=ACCEPTED;RSVP=TRUE;CN="Mike Lou
 ghton":https://networkinginsurrey.co.uk/profile/MikeLoughton
END:VEVENT
END:VCALENDAR
