BEGIN:VCALENDAR
PRODID:NingEventWidget-v1
VERSION:2.0
METHOD:PUBLISH
BEGIN:VTIMEZONE
TZID:Europe/London
X-LIC-LOCATION:Europe/London
BEGIN:DAYLIGHT
TZOFFSETFROM:+0000
TZOFFSETTO:+0100
TZNAME:BST
DTSTART:19700329T010000
RRULE:FREQ=YEARLY;BYMONTH=3;BYDAY=-1SU
END:DAYLIGHT
BEGIN:STANDARD
TZOFFSETFROM:+0100
TZOFFSETTO:+0000
TZNAME:GMT
DTSTART:19701025T020000
RRULE:FREQ=YEARLY;BYMONTH=10;BYDAY=-1SU
END:STANDARD
END:VTIMEZONE
BEGIN:VEVENT
UID:4626108:Event:34119
DTSTAMP:20260421T023922Z
SUMMARY:MEMBER PROMO: FREE Entrepreneur's Circle Evening, Shepperton
DESCRIPTION:This is a hands-on interactive training meeting to help am
 bitious business owners Grow their Business.\nIt's a great opportunity
  to meet like minded ambitious local business people.\nNovember - PROP
 ER planning for 2012\nMost business owners end their year without a th
 ought to what they want to achieve in the next year and the result... 
 they don’t achieve what they want to.\nWhy you have to be there...Ni
 gel always says “that your day ain’t over until you have planned t
 omorrow” and this is even more true about your year. Most business o
 wners end their year without a thought to what they want to achieve in
  the next year and the result... they don’t achieve what they want t
 o.In this Session we will go through what you need to do so that from 
 the very start of next year you know where you are going, what you wan
 t to happen and how to achieve it. After this session you will have ev
 erything you need to set out a plan for your business that will take y
 ou through into your most successful year yet.\n \nCOST: FREE to Entr
 eprenur Circle  Members\nNon-Members can attend one meeting Free of c
 harge if you you register by emailing mike@sirtax.co.uk  or ring me o
 n 01276 451465.\n\nFor more information visit https://networkinginsurr
 ey.co.uk/events/member-promo-free-entrepreneur-s-circle-evening-sheppe
 rton-1
DTSTART;TZID=Europe/London:20111114T163000
DTEND;TZID=Europe/London:20111114T184500
CATEGORIES:business, growth, training, meeting
LOCATION:Sunbury Golf Centre TW17 8QA
WEBSITE:http://www.sunburygolf.co.uk/
URL:http://www.sunburygolf.co.uk/
CONTACT:01276 451465
ORGANIZER;CN="Mike Loughton":https://networkinginsurrey.co.uk/profile/
 MikeLoughton
ATTACH;FMTTYPE="image/jpeg":http://storage.ning.com/topology/rest/1.0/
 file/get/2591393705?profile=original
ATTENDEE;ROLE=REQ-PARTICIPANT;PARTSTAT=ACCEPTED;RSVP=TRUE;CN="David En
 dersby":https://networkinginsurrey.co.uk/profile/DavidEndersby
ATTENDEE;ROLE=REQ-PARTICIPANT;PARTSTAT=ACCEPTED;RSVP=TRUE;CN="Mike Lou
 ghton":https://networkinginsurrey.co.uk/profile/MikeLoughton
END:VEVENT
END:VCALENDAR
