BEGIN:VCALENDAR
PRODID:NingEventWidget-v1
VERSION:2.0
METHOD:PUBLISH
BEGIN:VTIMEZONE
TZID:Europe/London
X-LIC-LOCATION:Europe/London
BEGIN:DAYLIGHT
TZOFFSETFROM:+0000
TZOFFSETTO:+0100
TZNAME:BST
DTSTART:19700329T010000
RRULE:FREQ=YEARLY;BYMONTH=3;BYDAY=-1SU
END:DAYLIGHT
BEGIN:STANDARD
TZOFFSETFROM:+0100
TZOFFSETTO:+0000
TZNAME:GMT
DTSTART:19701025T020000
RRULE:FREQ=YEARLY;BYMONTH=10;BYDAY=-1SU
END:STANDARD
END:VTIMEZONE
BEGIN:VEVENT
UID:4626108:Event:8332
DTSTAMP:20260422T214459Z
SUMMARY:MEMBER PROMO: FREE Champagne Reception and Musical Evening, Ri
 pley
DESCRIPTION:Celebrate the Launch of Amethsyt Wealth Management at the 
 Talbot Inn\n\nOliver BarryÂ invites NiS Members and visitors to celebr
 ate the launch of Amethyst Wealth Management with champagne, canapes a
 nd an acoustic musical session featuring Acoustic Air, with a Champagn
 e Prize Draw, and a collection in aid of the Phyllis Tuckwell Hospice.
 \n6:30 Champagne reception\n7:00 Welcome by Oliver Barry\nIntroduction
  to St. Jamesâ€™s Place by Jim McGarvie\nThe Work of Phyllis Tuckwell 
 Hospice by Andrew Cox\n7:30 Live Music from Acoustic Air\n\n8:15 Annou
 ncement of Prize Draw Winners and Close\nThis event is a great opportu
 nity for you to meet other local businesses - or arrange to meet up wi
 th your contacts and catch up over a glass of champagne. Cheers!\nBOOK
  HERE: For catering reasons the event is by invitation and acceptance 
 only, so if you would like to attendÂ you need toÂ contact Oliver on 0
 1483 222110 or 07738 227830Â or byÂ email oliver.barry@sjpp.co.uk\nVEN
 UE\nMAPÂ \nThe Talbot Inn is situated on Ripley High Street, just off 
 the A3 and has a car park at the rear.\n------------------------------
 -----------------Â \nAmethyst Wealth Management represents St. Jamesâ€
 ™s Place Wealth Management plc, who are authorised and regulated by th
 e Financial Services Authority\nÂ \n\nFor more information visit https
 ://networkinginsurrey.co.uk/events/member-promo-free-champagne
DTSTART;TZID=Europe/London:20110311T183000
DTEND;TZID=Europe/London:20110311T203000
CATEGORIES:member_promotion, ripley, free, evening
LOCATION:The Wisley Room, Talbot Inn GU23 6BB
WEBSITE:
URL:
CONTACT:Venue 01483 225188, Oliver Barry 01483 222110
ORGANIZER;CN="Keith Grover, NiS Founder":https://networkinginsurrey.co
 .uk/profile/KeithGrover
ATTACH;FMTTYPE="image/jpeg":http://storage.ning.com/topology/rest/1.0/
 file/get/2591390674?profile=original
ATTENDEE;ROLE=REQ-PARTICIPANT;PARTSTAT=ACCEPTED;RSVP=TRUE;CN="Sue Cock
 s":https://networkinginsurrey.co.uk/profile/SueCocks
ATTENDEE;ROLE=REQ-PARTICIPANT;PARTSTAT=ACCEPTED;RSVP=TRUE;CN="Sam Mill
 ard":https://networkinginsurrey.co.uk/profile/SamMillard
ATTENDEE;ROLE=REQ-PARTICIPANT;PARTSTAT=ACCEPTED;RSVP=TRUE;CN="Uzma Zai
 di":https://networkinginsurrey.co.uk/profile/UzmaAfzal
ATTENDEE;ROLE=REQ-PARTICIPANT;PARTSTAT=ACCEPTED;RSVP=TRUE;CN="Sandra C
 ollins":https://networkinginsurrey.co.uk/profile/SandraCollins
ATTENDEE;ROLE=REQ-PARTICIPANT;PARTSTAT=ACCEPTED;RSVP=TRUE;CN="Keith Gr
 over, NiS Founder":https://networkinginsurrey.co.uk/profile/KeithGrove
 r
ATTENDEE;ROLE=REQ-PARTICIPANT;PARTSTAT=TENTATIVE;RSVP=TRUE;CN="Rosemar
 y Hemmett":https://networkinginsurrey.co.uk/profile/RosemaryHemmett
END:VEVENT
END:VCALENDAR
