BEGIN:VCALENDAR
PRODID:NingEventWidget-v1
VERSION:2.0
METHOD:PUBLISH
BEGIN:VTIMEZONE
TZID:Europe/London
X-LIC-LOCATION:Europe/London
BEGIN:DAYLIGHT
TZOFFSETFROM:+0000
TZOFFSETTO:+0100
TZNAME:BST
DTSTART:19700329T010000
RRULE:FREQ=YEARLY;BYMONTH=3;BYDAY=-1SU
END:DAYLIGHT
BEGIN:STANDARD
TZOFFSETFROM:+0100
TZOFFSETTO:+0000
TZNAME:GMT
DTSTART:19701025T020000
RRULE:FREQ=YEARLY;BYMONTH=10;BYDAY=-1SU
END:STANDARD
END:VTIMEZONE
BEGIN:VEVENT
UID:4626108:Event:11734
DTSTAMP:20260422T203815Z
SUMMARY:MEMBER PROMO: 'By Choice Not By Chance' Evening Health Seminar
 , Richmond
DESCRIPTION:If you are interested in Health or Rugby, you would not wa
 nt to miss this event.\nMAP\n\nFor more information visit https://netw
 orkinginsurrey.co.uk/events/member-promo-by-choice-not-by
DTSTART;TZID=Europe/London:20110406T190000
DTEND;TZID=Europe/London:20110406T210000
CATEGORIES:health, seminar
LOCATION:LONDON WELSH RUGBY CLUB OLD DEER PARK
WEBSITE:http://maps.google.co.uk/maps?hl=en&tab=wl
URL:http://maps.google.co.uk/maps?hl=en&tab=wl
CONTACT:07789 866 033
ORGANIZER;CN="Uzma Zaidi":https://networkinginsurrey.co.uk/profile/Uzm
 aAfzal
ATTACH;FMTTYPE="image/jpeg":http://storage.ning.com/topology/rest/1.0/
 file/get/2591390951?profile=original
ATTENDEE;ROLE=REQ-PARTICIPANT;PARTSTAT=ACCEPTED;RSVP=TRUE;CN="Uzma Zai
 di":https://networkinginsurrey.co.uk/profile/UzmaAfzal
END:VEVENT
END:VCALENDAR
