BEGIN:VCALENDAR
PRODID:NingEventWidget-v1
VERSION:2.0
METHOD:PUBLISH
BEGIN:VTIMEZONE
TZID:Europe/London
X-LIC-LOCATION:Europe/London
BEGIN:DAYLIGHT
TZOFFSETFROM:+0000
TZOFFSETTO:+0100
TZNAME:BST
DTSTART:19700329T010000
RRULE:FREQ=YEARLY;BYMONTH=3;BYDAY=-1SU
END:DAYLIGHT
BEGIN:STANDARD
TZOFFSETFROM:+0100
TZOFFSETTO:+0000
TZNAME:GMT
DTSTART:19701025T020000
RRULE:FREQ=YEARLY;BYMONTH=10;BYDAY=-1SU
END:STANDARD
END:VTIMEZONE
BEGIN:VEVENT
UID:4626108:Event:7369
DTSTAMP:20260424T063124Z
SUMMARY:MEMBER PROMO: A Kick Up The Business Evening, Kingston-upon-Th
 ames
DESCRIPTION:Â A Kick Up The Business\nÂ \nDo you need a kick up the bu
 siness?\nAs we start 2011 there are two kinds of business: ones that h
 ave a fantastic year, and ones that donâ€™t.\nIf youâ€™re reading this
 , you must be determined to be in the first group.\nBut in this highly
 -demanding economic climate, you need more than just determination.\n\
 nYou need dynamic sales techniques that will blow your competition out
  of the water and bring in major new accounts.\nYou need a powerful br
 and that makes you stand out from the crowd and becomes synonymous wit
 h excellence.\nYou need an eye-catching website that acts as your high
 ly-targeted online marketing team, pulling in new customers and showca
 sing your services.\nAnd you need brilliant words that make everything
  sound too thrilling to ignore.\n\nThe good news is that thereâ€™s a r
 oom in Kingston where you can get the entire package.\nâ€˜A Kick Up Th
 e Businessâ€™ on 15 February is an unmissable evening where you will l
 earn more than 20 new techniques to rocket your company to success.\nÂ
  \nIt will be hosted by a crack team of professionals in media and mar
 keting.\nÂ \nBOOK NOW at www.akickupthebusiness.eventbrite.comÂ \nCOST
 : Â£10 by advanced booking.Â  Â£15 cash on the night. Numbers are stri
 ctly limited, so advanced booking is recommended.\nMAP\nï»¿\n\nFor mor
 e information visit https://networkinginsurrey.co.uk/events/member-pro
 mo-a-kick-up-the
DTSTART;TZID=Europe/London:20110215T183000
DTEND;TZID=Europe/London:20110215T210000
CATEGORIES:seminar, evening, kingston
LOCATION:Market House
WEBSITE:http://akickupthebusiness.eventbrite.com/
URL:http://akickupthebusiness.eventbrite.com/
CONTACT:07813 935955
ORGANIZER;CN="Mark Rouvray":https://networkinginsurrey.co.uk/profile/M
 arkRouvray
ATTACH;FMTTYPE="image/jpeg":http://storage.ning.com/topology/rest/1.0/
 file/get/2591389895?profile=original
ATTENDEE;ROLE=REQ-PARTICIPANT;PARTSTAT=ACCEPTED;RSVP=TRUE;CN="Mark Rou
 vray":https://networkinginsurrey.co.uk/profile/MarkRouvray
END:VEVENT
END:VCALENDAR
