BEGIN:VCALENDAR
PRODID:NingEventWidget-v1
VERSION:2.0
METHOD:PUBLISH
BEGIN:VTIMEZONE
TZID:Europe/London
X-LIC-LOCATION:Europe/London
BEGIN:DAYLIGHT
TZOFFSETFROM:+0000
TZOFFSETTO:+0100
TZNAME:BST
DTSTART:19700329T010000
RRULE:FREQ=YEARLY;BYMONTH=3;BYDAY=-1SU
END:DAYLIGHT
BEGIN:STANDARD
TZOFFSETFROM:+0100
TZOFFSETTO:+0000
TZNAME:GMT
DTSTART:19701025T020000
RRULE:FREQ=YEARLY;BYMONTH=10;BYDAY=-1SU
END:STANDARD
END:VTIMEZONE
BEGIN:VEVENT
UID:4626108:Event:48980
DTSTAMP:20260421T102335Z
SUMMARY:GUEST EVENT: Meet Gatqwick Evening, Redhill
DESCRIPTION:Multi-speed Networking Action at Vines Redhill\n\nMEET GAT
 QWICK is Greater Gatwick's Fastest Networking Event!\nGatQwick is a n
 etworking evening with a variety of Speed Networking, Deep networking 
 and Social Networking. There's plenty of one-to-one interaction in a f
 ast and slow environment, enhanced with delicious catering and drinks.
  \nYou are guaranteed to meet with 40+ businesses and feature on our 
 comprehensive delegate list. It promises to be a very productive eveni
 ng for any businesses who attend...\nCOST: Earlybird rate £30 includi
 ng buffet\nBOOKING: Please CLICK HERE for more info and to book\nMAP\
 n\nFor more information visit https://networkinginsurrey.co.uk/events/
 meet-gatqwick
DTSTART;TZID=Europe/London:20121108T170000
DTEND;TZID=Europe/London:20121108T213000
CATEGORIES:business, to, networking
LOCATION:Vines of Redhill
WEBSITE:http://www.gatqwick.co.uk/
URL:http://www.gatqwick.co.uk/
CONTACT:07712 647718
ORGANIZER;CN="Irving Levy":https://networkinginsurrey.co.uk/profile/Ir
 vingLevy
ATTACH;FMTTYPE="image/jpeg":http://storage.ning.com/topology/rest/1.0/
 file/get/2591409616?profile=original
ATTENDEE;ROLE=REQ-PARTICIPANT;PARTSTAT=ACCEPTED;RSVP=TRUE;CN="Irving L
 evy":https://networkinginsurrey.co.uk/profile/IrvingLevy
ATTENDEE;ROLE=REQ-PARTICIPANT;PARTSTAT=ACCEPTED;RSVP=TRUE;CN="Keith Gr
 over, NiS Founder":https://networkinginsurrey.co.uk/profile/KeithGrove
 r
END:VEVENT
END:VCALENDAR
