BEGIN:VCALENDAR
PRODID:NingEventWidget-v1
VERSION:2.0
METHOD:PUBLISH
BEGIN:VTIMEZONE
TZID:Europe/London
X-LIC-LOCATION:Europe/London
BEGIN:DAYLIGHT
TZOFFSETFROM:+0000
TZOFFSETTO:+0100
TZNAME:BST
DTSTART:19700329T010000
RRULE:FREQ=YEARLY;BYMONTH=3;BYDAY=-1SU
END:DAYLIGHT
BEGIN:STANDARD
TZOFFSETFROM:+0100
TZOFFSETTO:+0000
TZNAME:GMT
DTSTART:19701025T020000
RRULE:FREQ=YEARLY;BYMONTH=10;BYDAY=-1SU
END:STANDARD
END:VTIMEZONE
BEGIN:VEVENT
UID:4626108:Event:541860
DTSTAMP:20260420T035440Z
SUMMARY:'MayDay' Spring Bank Holiday
DESCRIPTION:You know you shouldn't be working today - but the 'self-un
 employed' amongst us won't be able to resist a quick peep at their ema
 ils...  \r\n\r\nSTEP AWAY FROM THE KEYBOARD AND THE SMARTPHONE!\r\nBa
 nk Holidays 2024 - check 'em out...\n\nFor more information visit http
 s://networkinginsurrey.co.uk/events/mayday-spring-bank-holiday-1
DTSTART;TZID=Europe/London:20240506T000000
DTEND;TZID=Europe/London:20240506T235900
CATEGORIES:bank_holiday
LOCATION:Your place
WEBSITE:
URL:
CONTACT:
ORGANIZER;CN="Keith Grover, NiS Founder":https://networkinginsurrey.co
 .uk/profile/KeithGrover
ATTACH;FMTTYPE="image/jpeg":https://storage.ning.com/topology/rest/1.0
 /file/get/10229793692?profile=original
ATTENDEE;ROLE=REQ-PARTICIPANT;PARTSTAT=ACCEPTED;RSVP=TRUE;CN="Keith Gr
 over, NiS Founder":https://networkinginsurrey.co.uk/profile/KeithGrove
 r
END:VEVENT
END:VCALENDAR
