BEGIN:VCALENDAR
PRODID:NingEventWidget-v1
VERSION:2.0
METHOD:PUBLISH
BEGIN:VTIMEZONE
TZID:Europe/London
X-LIC-LOCATION:Europe/London
BEGIN:DAYLIGHT
TZOFFSETFROM:+0000
TZOFFSETTO:+0100
TZNAME:BST
DTSTART:19700329T010000
RRULE:FREQ=YEARLY;BYMONTH=3;BYDAY=-1SU
END:DAYLIGHT
BEGIN:STANDARD
TZOFFSETFROM:+0100
TZOFFSETTO:+0000
TZNAME:GMT
DTSTART:19701025T020000
RRULE:FREQ=YEARLY;BYMONTH=10;BYDAY=-1SU
END:STANDARD
END:VTIMEZONE
BEGIN:VEVENT
UID:4626108:Event:5714
DTSTAMP:20260423T112727Z
SUMMARY:MasterMind Evening, Guildford
DESCRIPTION:Donâ€™t be on your own... As a freelancer or a independent
  professional do you often ask the following questions:- How will I gr
 ow my business next year? What is my long term plan? What is my pitch?
  How can I increase my perceived value? How can I adapt and thrive in 
 a buyers market?\nThe MasterMind Session will bring like minds togethe
 r to crack out some answers.\nMastermindâ€¦ thereâ€™s a chair just for
  you\nWeâ€™ve started, so weâ€™ll finish. If your specialist subject i
 s... freelancing we have a chair just waiting for you.\nThe Profession
 al Contractor Group special Mastermind sessions are to be held through
 out the UK and while there might not be an imposing leather chair, you
  can make yourself comfortable in Guildford for a stimulating session 
 that will help us celebrate the PCGâ€™s National Freelancers Day.\nThe
  event, in association with Nuggets of Learning and Human Zoo, is Â£15
  to attend (which includes canapes & a drink) and could help all freel
 ancers take another look at their career to ensure they are heading on
  the right work and lifestyle paths. Itâ€™s a chance to meet old frien
 ds, make new friends, exchange ideas and discuss current markets. The 
 Mastermind sessions are aimed at:\n\nÂ· Freelancers who want to brains
 torm different routes to success\n\nÂ· Contractors who want to explore
  ways of optimising rates, landing desirable roles and handling agency
  relationships\n\nÂ· Any independent professional who wants to exchang
 e ideas with others to get an overall feel for the marketplace\n\nAnd 
 the final question isâ€¦can you really afford to miss it?\n\n\nCOST: Â
 £15 including refreshments\nMAP\nBar des Arts is near Debenhams opposi
 te the Yvonne Arnaud theatre, just a few minutes from the Millbrook ca
 r park.\n\nFor more information visit https://networkinginsurrey.co.uk
 /events/mastermind-evening-guildford
DTSTART;TZID=Europe/London:20101130T193000
DTEND;TZID=Europe/London:20101130T210000
CATEGORIES:workshop, "/", networking
LOCATION:Bar Des Arts GU1 3YA
WEBSITE:http://mastermindsession.eventbrite.com/
URL:http://mastermindsession.eventbrite.com/
CONTACT:07747 608 621
ORGANIZER:Human Zoo (Simon Strong) & Nuggets Of Learning
ATTACH;FMTTYPE="image/jpeg":http://storage.ning.com/topology/rest/1.0/
 file/get/2591389210?profile=original
ATTENDEE;ROLE=REQ-PARTICIPANT;PARTSTAT=ACCEPTED;RSVP=TRUE;CN="Simon St
 rong":https://networkinginsurrey.co.uk/profile/SimonStrong
END:VEVENT
END:VCALENDAR
