BEGIN:VCALENDAR
PRODID:NingEventWidget-v1
VERSION:2.0
METHOD:PUBLISH
BEGIN:VTIMEZONE
TZID:Europe/London
X-LIC-LOCATION:Europe/London
BEGIN:DAYLIGHT
TZOFFSETFROM:+0000
TZOFFSETTO:+0100
TZNAME:BST
DTSTART:19700329T010000
RRULE:FREQ=YEARLY;BYMONTH=3;BYDAY=-1SU
END:DAYLIGHT
BEGIN:STANDARD
TZOFFSETFROM:+0100
TZOFFSETTO:+0000
TZNAME:GMT
DTSTART:19701025T020000
RRULE:FREQ=YEARLY;BYMONTH=10;BYDAY=-1SU
END:STANDARD
END:VTIMEZONE
BEGIN:VEVENT
UID:4626108:Event:6434
DTSTAMP:20260422T103712Z
SUMMARY:MasterMind Evening, Guildford
DESCRIPTION:MasterMind Networking Evening at the Bar des Arts\nÂ \nDon
 â€™t be on your own... As a freelancer or a independent professional d
 o you often ask the following questions:- How will I grow my business 
 next year? What is my long term plan? What is my pitch? How can I incr
 ease my perceived value? How can I adapt and thrive in a buyers market
 ?Mastermindâ€¦ thereâ€™s a chair just for you! Weâ€™ve started, so weâ
 €™ll finish. If your specialist subject is... freelancing we have a ch
 air just waiting for you. The MasterMind Session will bring like minds
  together to crack out some answers.\nThe Professional Contractor Grou
 p special Mastermind sessions are to be held throughout the UK and whi
 le there might not be an imposing leather chair, you can make yourself
  comfortable in Guildford for a stimulating session that will help us 
 celebrate the PCGâ€™s National Freelancers Day.\nThe event, in associa
 tion with Nuggets of Learning and Human Zoo, is Â£15 to attend (which 
 includes canapes & a drink) and could help all freelancers take anothe
 r look at their career to ensure they are heading on the right work an
 d lifestyle paths. Itâ€™s a chance to meet old friends, make new frien
 ds, exchange ideas and discuss current markets. The Mastermind session
 s are aimed at:\nÂ· Freelancers who want to brainstorm different route
 s to successÂ· Contractors who want to explore ways of optimising rate
 s, landing desirable roles and handling agency relationshipsÂ· Any ind
 ependent professional who wants to exchange ideas with others to get a
 n overall feel for the marketplaceAnd the final question isâ€¦can you 
 really afford to miss it?\nCOST: Â£15 including refreshments\nVENUE\nM
 AP\n\nFor more information visit https://networkinginsurrey.co.uk/even
 ts/mastermind-evening-guildford-1
DTSTART;TZID=Europe/London:20110112T193000
DTEND;TZID=Europe/London:20110112T210000
CATEGORIES:workshop, "/", networking
LOCATION:Bar Des Arts
WEBSITE:http://www.bardesarts.co.uk/
URL:http://www.bardesarts.co.uk/
CONTACT:07747 608 621
ORGANIZER:Simon Strong & Nuggets of Learning
ATTACH;FMTTYPE="image/jpeg":http://storage.ning.com/topology/rest/1.0/
 file/get/2591389210?profile=original
ATTENDEE;ROLE=REQ-PARTICIPANT;PARTSTAT=ACCEPTED;RSVP=TRUE;CN="Simon St
 rong":https://networkinginsurrey.co.uk/profile/SimonStrong
END:VEVENT
END:VCALENDAR
