BEGIN:VCALENDAR
PRODID:NingEventWidget-v1
VERSION:2.0
METHOD:PUBLISH
BEGIN:VTIMEZONE
TZID:Europe/London
X-LIC-LOCATION:Europe/London
BEGIN:DAYLIGHT
TZOFFSETFROM:+0000
TZOFFSETTO:+0100
TZNAME:BST
DTSTART:19700329T010000
RRULE:FREQ=YEARLY;BYMONTH=3;BYDAY=-1SU
END:DAYLIGHT
BEGIN:STANDARD
TZOFFSETFROM:+0100
TZOFFSETTO:+0000
TZNAME:GMT
DTSTART:19701025T020000
RRULE:FREQ=YEARLY;BYMONTH=10;BYDAY=-1SU
END:STANDARD
END:VTIMEZONE
BEGIN:VEVENT
UID:4626108:Event:93560
DTSTAMP:20260423T070002Z
SUMMARY:March Hare Co-Hop Champagne Evening, Guildford
DESCRIPTION:March Hare Champagne Co-Hop  \r\n\r\nLove meeting like-mi
 nded professionals? Love Champagne?\r\nLove the March Hare pub brasser
 ie in Guildford? (you will do!)\r\nPlease join us at our next co-hop n
 etworking event where will be joined by the fabulous Martin Gamman of 
 Joseph Perrier champagne…\r\n“Martin is a Master of Wine who has w
 orked in the wine trade for over 30 years in various roles including b
 uying for J Sainsbury's and running the European business for two larg
 e Australian producers. He has been in charge of Joseph Perrier's oper
 ations in the UK and Ireland for the last 11 years and is a great enth
 usiast for champagne. He will take us through some of the main styles 
 of champagne and explain some of the complexities of this fascinating 
 region.”\r\nPlease note: we only have champagne enough for 25 peopl
 e, so it's first come, first served!\r\nOur wonderful co-hops will tak
 e place on the last Tuesday of the month, and is networking… but wit
 h our famous White Brasserie twist!\r\nThere is an exciting new theme 
 to each event and we'll always have a warm and welcoming home at the M
 arch Hare. Please let us give you another reason to be your local...\r
 \nCOST: FREE - but booking is essential please for catering purposes
 ...\r\nBOOKING: Please email Maddie on co-hop@whitebrasserie.com  t
 o claim your free place\r\nMAP\r\n\n\nFor more information visit https
 ://networkinginsurrey.co.uk/events/march-hare-co-hop-networking
DTSTART;TZID=Europe/London:20171128T170000
DTEND;TZID=Europe/London:20171128T190000
CATEGORIES:networking, event
LOCATION:March Hare GU1 3SY
WEBSITE:http://www.marchhareguildford.com
URL:http://www.marchhareguildford.com
CONTACT:07976787953
ORGANIZER;CN="Madeline Cummings":https://networkinginsurrey.co.uk/prof
 ile/MadelineCummings
ATTACH;FMTTYPE="image/jpeg":http://storage.ning.com/topology/rest/1.0/
 file/get/2591467036?profile=original
ATTENDEE;ROLE=REQ-PARTICIPANT;PARTSTAT=ACCEPTED;RSVP=TRUE;CN="Madeline
  Cummings":https://networkinginsurrey.co.uk/profile/MadelineCummings
END:VEVENT
END:VCALENDAR
