BEGIN:VCALENDAR
PRODID:NingEventWidget-v1
VERSION:2.0
METHOD:PUBLISH
BEGIN:VTIMEZONE
TZID:Europe/London
X-LIC-LOCATION:Europe/London
BEGIN:DAYLIGHT
TZOFFSETFROM:+0000
TZOFFSETTO:+0100
TZNAME:BST
DTSTART:19700329T010000
RRULE:FREQ=YEARLY;BYMONTH=3;BYDAY=-1SU
END:DAYLIGHT
BEGIN:STANDARD
TZOFFSETFROM:+0100
TZOFFSETTO:+0000
TZNAME:GMT
DTSTART:19701025T020000
RRULE:FREQ=YEARLY;BYMONTH=10;BYDAY=-1SU
END:STANDARD
END:VTIMEZONE
BEGIN:VEVENT
UID:4626108:Event:74723
DTSTAMP:20260426T043910Z
SUMMARY:Macmillan Charity Networking Morning, Guildford
DESCRIPTION:Macmillan Charity Coffee Morning, Guildford\n\nWe are taki
 ng part in the world's biggest coffee morning for Macmillan, any oppor
 tunity to have coffee and cake! But we want to invite anyone and every
 one to come along, have a chat, and potentially be opened up to a worl
 d of business opportunities.\nThe event is free to attend, but please 
 bring some money along with you to pay for refreshments as all funds c
 ollected will go to Macmillan Cancer Support.\nWe look forward to seei
 ng you there!\nCOST: FREE to attend, coffee and cakes for sale in a go
 od cause\nBOOKING: No need to book - please just drop in!\nMAP\n\nFor 
 more information visit https://networkinginsurrey.co.uk/events/macmill
 an-networking-coffee-morning-guildford
DTSTART;TZID=Europe/London:20150925T100000
DTEND;TZID=Europe/London:20150925T130000
CATEGORIES:fundraiser, and, networking, event
LOCATION:Chancery House, GU1 4QW
WEBSITE:https://www.google.co.uk/maps/place/N%26B+Training/@51.2402447
 ,-0.5776083,17z/data=!3m1!4b1!4m2!3m1!1s0x4875d096272278a3:0x1b95910ee
 1dff48e?hl=en
URL:https://www.google.co.uk/maps/place/N%26B+Training/@51.2402447,-0.
 5776083,17z/data=!3m1!4b1!4m2!3m1!1s0x4875d096272278a3:0x1b95910ee1dff
 48e?hl=en
CONTACT:01932 252599
ORGANIZER:Zoe Seymour
ATTACH;FMTTYPE="image/jpeg":http://storage.ning.com/topology/rest/1.0/
 file/get/2591452306?profile=original
ATTENDEE;ROLE=REQ-PARTICIPANT;PARTSTAT=ACCEPTED;RSVP=TRUE;CN="Olivia K
 itch":https://networkinginsurrey.co.uk/profile/OliviaKitch
END:VEVENT
END:VCALENDAR
