BEGIN:VCALENDAR
PRODID:NingEventWidget-v1
VERSION:2.0
METHOD:PUBLISH
BEGIN:VTIMEZONE
TZID:Europe/London
X-LIC-LOCATION:Europe/London
BEGIN:DAYLIGHT
TZOFFSETFROM:+0000
TZOFFSETTO:+0100
TZNAME:BST
DTSTART:19700329T010000
RRULE:FREQ=YEARLY;BYMONTH=3;BYDAY=-1SU
END:DAYLIGHT
BEGIN:STANDARD
TZOFFSETFROM:+0100
TZOFFSETTO:+0000
TZNAME:GMT
DTSTART:19701025T020000
RRULE:FREQ=YEARLY;BYMONTH=10;BYDAY=-1SU
END:STANDARD
END:VTIMEZONE
BEGIN:VEVENT
UID:4626108:Event:75769
DTSTAMP:20260425T233147Z
SUMMARY:Lunchtime Boardroom Networking, Cobham
DESCRIPTION:My Team Boardroom in Weybridge\nThis month's invitation-on
 ly Board Meeting will be held at MyTeam HQ in Weybridge.\nThe powerfu
 l Boardroom / Mastermind Group is a step up from conventional network
 ing for business owners.\nWe meet over coffee and lunch once each mont
 h to explore business issues and opportunities and act as non-Executiv
 e directors for each other's businesses.\nIf you have never tried a bo
 ardroom, this is your opportunity to experience one. \nDuring the ses
 sion, we will be brainstorming solutions to business challenges and sh
 aring thoughts and ideas to give new perspectives on the issues in han
 d, and offer helpful solutions.\n[The Chatham House Rule on confiden
 tiality  applies]\n\"We really enjoyed your Boardroom session, there 
 were many ideas that came up from the meeting, that we hadn't thought 
 about and that we can implement immediately! The wealth of knowledge a
 nd expertise was amazing and extremely worthwhile attending.\" Shirley
  Geraghty \n\"Another great meeting with some brilliant participation
  - thanks Keith!\" Martin Davidge-Stringer\nEverybody buys their own l
 unch or drink - you can get a decent lunch for around £6 (see sample
  menu) \nIf you would like to attend please email keith@networkingin
 surrey.co.uk or call Keith Grover on 01932 845814 for details.\nCOST
 : FREE to Members and invited VIsitors only (returning Guests £35). 
 Everybody pays for their lunch at the bar.\nBOOKING: When you have con
 firmed your invitation by emailing keith@networkinginsurrey.co.uk) ple
 ase CLICK HERE to book \nMAP\nAmple free parking\n------------------
 ----------------\nMy Team Network is a thriving lunchtime networking 
 group developed by Keith Grover, creator of Networking in Surrey, to m
 ultiply the power of individuals networking within a team framework 
 and exploiting the space between meetings. Our meetings are always ove
 rbooked, with a waiting list.\n\nMyTeam Premier is a paid Membership 
 option that takes the concept to the next level. As business owners, w
 e work together as non-Executive directors of each other's businesses,
  sharing our connections, expertise and experience to our mutual benef
 it.\nVisitors who feel MyTeam Premier Membership would be beneficial t
 o their business may be invited after their trial session to submit an
  application to join us (no individual will be subjected to a recruitm
 ent 'sales pitch' - ever!)\n\n\n\nFor more information visit https://n
 etworkinginsurrey.co.uk/events/lunchtime-boardroom-networking-cobham-4
DTSTART;TZID=Europe/London:20151217T110000
DTEND;TZID=Europe/London:20151217T140000
CATEGORIES:lunchtime, free, networking_skills, cobham
LOCATION:MyTeam HQ KT13 0SY
WEBSITE:
URL:
CONTACT:01932 845814
ORGANIZER;CN="Keith Grover, NiS Founder":https://networkinginsurrey.co
 .uk/profile/KeithGrover
ATTACH;FMTTYPE="image/jpeg":http://storage.ning.com/topology/rest/1.0/
 file/get/2591445318?profile=original
ATTENDEE;ROLE=REQ-PARTICIPANT;PARTSTAT=ACCEPTED;RSVP=TRUE;CN="Mark Bon
 nett":https://networkinginsurrey.co.uk/profile/MarkBonnett
ATTENDEE;ROLE=REQ-PARTICIPANT;PARTSTAT=ACCEPTED;RSVP=TRUE;CN="Keith Gr
 over, NiS Founder":https://networkinginsurrey.co.uk/profile/KeithGrove
 r
END:VEVENT
END:VCALENDAR
