BEGIN:VCALENDAR
PRODID:NingEventWidget-v1
VERSION:2.0
METHOD:PUBLISH
BEGIN:VTIMEZONE
TZID:Europe/London
X-LIC-LOCATION:Europe/London
BEGIN:DAYLIGHT
TZOFFSETFROM:+0000
TZOFFSETTO:+0100
TZNAME:BST
DTSTART:19700329T010000
RRULE:FREQ=YEARLY;BYMONTH=3;BYDAY=-1SU
END:DAYLIGHT
BEGIN:STANDARD
TZOFFSETFROM:+0100
TZOFFSETTO:+0000
TZNAME:GMT
DTSTART:19701025T020000
RRULE:FREQ=YEARLY;BYMONTH=10;BYDAY=-1SU
END:STANDARD
END:VTIMEZONE
BEGIN:VEVENT
UID:4626108:Event:75216
DTSTAMP:20260426T031853Z
SUMMARY:Lunchtime Speed Networking, Guildford
DESCRIPTION:FREE Thebestof Speed Networking with Sally at The Keystone
 \n\nRichard and Sally are delighted to welcome you to the their new-is
 h monthly Speed Networking event in Guildford hosted by thebestofguil
 dford and the Keystone Pub. \nWe've had two events so far and it se
 ems that everyone has been having great time......no need to do Speed 
 Dating....come Speed Networking with Sally!\nThe important thing with 
 speed networking however, is that we must have a minimum number of att
 endees, so whilst in these days there is no charge whatsover it is imp
 ortant that you commit to attending and only commit if you are pretty 
 certain of being there on the day!... hope that sounds fair.\nPlease a
 rrive as promptly as you can for 12:30 as we will aim to start the mee
 ting for 12:45.\nDrinks and food can be purchased at the bar, so if yo
 u fancy a spot of lunch before or after, the staff at the Keystone Pub
  are very happy to help.\nWe also have a maximum attendance figure of 
 20 people - no more - so if you are up for it, better get yourself boo
 ked up today!\nCOST: FREE to attend - but please book a place\nBOOKING
 : Please CLICK HERE to register for your free place\nMAP\n\nFor more 
 information visit https://networkinginsurrey.co.uk/events/lunch-speed-
 networkng-with-sally-connectsurrey
DTSTART;TZID=Europe/London:20151102T123000
DTEND;TZID=Europe/London:20151102T140000
CATEGORIES:speed, networking
LOCATION:Keystone Pub Guildford
WEBSITE:http://www.eventbrite.co.uk/e/speed-networking-with-sally-tick
 ets-19013461776
URL:http://www.eventbrite.co.uk/e/speed-networking-with-sally-tickets-
 19013461776
CONTACT:07525 738758
ORGANIZER;CN="Sally Castro Gouveia":https://networkinginsurrey.co.uk/p
 rofile/SallyCastroGouveia
ATTACH;FMTTYPE="image/jpeg":http://storage.ning.com/topology/rest/1.0/
 file/get/2591447301?profile=original
ATTENDEE;ROLE=REQ-PARTICIPANT;PARTSTAT=ACCEPTED;RSVP=TRUE;CN="Sally Ca
 stro Gouveia":https://networkinginsurrey.co.uk/profile/SallyCastroGouv
 eia
END:VEVENT
END:VCALENDAR
