BEGIN:VCALENDAR
PRODID:NingEventWidget-v1
VERSION:2.0
METHOD:PUBLISH
BEGIN:VTIMEZONE
TZID:Europe/London
X-LIC-LOCATION:Europe/London
BEGIN:DAYLIGHT
TZOFFSETFROM:+0000
TZOFFSETTO:+0100
TZNAME:BST
DTSTART:19700329T010000
RRULE:FREQ=YEARLY;BYMONTH=3;BYDAY=-1SU
END:DAYLIGHT
BEGIN:STANDARD
TZOFFSETFROM:+0100
TZOFFSETTO:+0000
TZNAME:GMT
DTSTART:19701025T020000
RRULE:FREQ=YEARLY;BYMONTH=10;BYDAY=-1SU
END:STANDARD
END:VTIMEZONE
BEGIN:VEVENT
UID:4626108:Event:86318
DTSTAMP:20260424T103412Z
SUMMARY:FREE Community & Business Morning, Old Woking
DESCRIPTION:Find Your Spring Glow! Get LIT.\n\nLoveWhatWeDo present an
  exciting morning with speakers, interactive workshops, unique and unu
 sual shopping, therapists, networking opportunities and fun!\nEvent De
 tails Here\n\n#LWWDEvent\nCOST:  FREE admission - we invite you to ma
 ke a small donation to charity\nBOOKING:  No need o book - just come 
 and join us on the day!\nMAP\n\nFor more information visit https://net
 workinginsurrey.co.uk/events/lovewhatwedo-present
DTSTART;TZID=Europe/London:20170317T093000
DTEND;TZID=Europe/London:20170317T130000
CATEGORIES:fundraiser, mini, expo
LOCATION:Hoebridge Golf Club GU22 8JH
WEBSITE:https://www.google.co.uk/maps/dir/51.2603512,-0.5490772/Hoebri
 dge+Golf+Centre+Old+Woking+Road/@51.2853193,-0.5715448,13z/data=!3m1!4
 b1!4m15!1m6!3m5!1s0x4875d84a382ce737:0x6fb224e6d025a0c4!2sHoebridge+Go
 lf+Centre!8m2!3d51.3117174!4d-0.535575!4m7!1m0!1m5!1m1!1s0x4875d84a382
 ce737:0x6fb224e6d025a0c4!2m2!1d-0.535575!2d51.3117174?hl=en
URL:https://www.google.co.uk/maps/dir/51.2603512,-0.5490772/Hoebridge+
 Golf+Centre+Old+Woking+Road/@51.2853193,-0.5715448,13z/data=!3m1!4b1!4
 m15!1m6!3m5!1s0x4875d84a382ce737:0x6fb224e6d025a0c4!2sHoebridge+Golf+C
 entre!8m2!3d51.3117174!4d-0.535575!4m7!1m0!1m5!1m1!1s0x4875d84a382ce73
 7:0x6fb224e6d025a0c4!2m2!1d-0.535575!2d51.3117174?hl=en
CONTACT:07768 392686
ORGANIZER;CN="Jane Tyson":https://networkinginsurrey.co.uk/profile/Jan
 eTyson
ATTACH;FMTTYPE="image/jpeg":http://storage.ning.com/topology/rest/1.0/
 file/get/2591461872?profile=original
ATTENDEE;ROLE=REQ-PARTICIPANT;PARTSTAT=ACCEPTED;RSVP=TRUE;CN="Jane Tys
 on":https://networkinginsurrey.co.uk/profile/JaneTyson
END:VEVENT
END:VCALENDAR
