BEGIN:VCALENDAR
PRODID:NingEventWidget-v1
VERSION:2.0
METHOD:PUBLISH
BEGIN:VTIMEZONE
TZID:Europe/London
X-LIC-LOCATION:Europe/London
BEGIN:DAYLIGHT
TZOFFSETFROM:+0000
TZOFFSETTO:+0100
TZNAME:BST
DTSTART:19700329T010000
RRULE:FREQ=YEARLY;BYMONTH=3;BYDAY=-1SU
END:DAYLIGHT
BEGIN:STANDARD
TZOFFSETFROM:+0100
TZOFFSETTO:+0000
TZNAME:GMT
DTSTART:19701025T020000
RRULE:FREQ=YEARLY;BYMONTH=10;BYDAY=-1SU
END:STANDARD
END:VTIMEZONE
BEGIN:VEVENT
UID:4626108:Event:86862
DTSTAMP:20260424T103413Z
SUMMARY:LOVE Share Lunchtime Session, Woking
DESCRIPTION:\n\nWe are a community group established since 2012.Â \nOu
 r next LOVE share is Tuesday 28th March 11.30pm - 1.00pm, Come tell us
  who you are and share what you LOVE to do!  Â  Â  Â  Â  Â  Â  Â  Â  Â
   Â  Â  Â  Â  Â  Â  Â  Â  Â  Â  Â  Â  Â  Â  Voice * Vision * ChoiceÂ  
 Â  Â  Â  Â  Â  Â  Â  Â  Â  Â  Â  Â  Â  Â  Â  Bird in Hand - Woking 11.
 00pm - 12.30pm  Quality Conversations - Learn, Collaborate, Cocreate, 
 have some Fun & Grow.\nWe are launching a number of initiatives this y
 ear.\nSee also MeetUp.com/Random-Dialogues\nFree -Â  8 places availabl
 e.\nBOOKING: Please CLICK HEREÂ to book your place\nMAP\n\n\n\nFor mor
 e information visit https://networkinginsurrey.co.uk/events/love-share
DTSTART;TZID=Europe/London:20170327T110000
DTEND;TZID=Europe/London:20170327T123000
CATEGORIES:soft, networking
LOCATION:Bird in Hand
WEBSITE:https://www.eventbrite.com/e/love-what-we-do-random-dialogues-
 present-love-share-tickets-29796692710
URL:https://www.eventbrite.com/e/love-what-we-do-random-dialogues-pres
 ent-love-share-tickets-29796692710
CONTACT:07768392686
ORGANIZER;CN="Jane Tyson":https://networkinginsurrey.co.uk/profile/Jan
 eTyson
ATTACH;FMTTYPE="image/jpeg":http://storage.ning.com/topology/rest/1.0/
 file/get/2591461872?profile=original
ATTENDEE;ROLE=REQ-PARTICIPANT;PARTSTAT=ACCEPTED;RSVP=TRUE;CN="Jane Tys
 on":https://networkinginsurrey.co.uk/profile/JaneTyson
END:VEVENT
END:VCALENDAR
