BEGIN:VCALENDAR
PRODID:NingEventWidget-v1
VERSION:2.0
METHOD:PUBLISH
BEGIN:VTIMEZONE
TZID:Europe/London
X-LIC-LOCATION:Europe/London
BEGIN:DAYLIGHT
TZOFFSETFROM:+0000
TZOFFSETTO:+0100
TZNAME:BST
DTSTART:19700329T010000
RRULE:FREQ=YEARLY;BYMONTH=3;BYDAY=-1SU
END:DAYLIGHT
BEGIN:STANDARD
TZOFFSETFROM:+0100
TZOFFSETTO:+0000
TZNAME:GMT
DTSTART:19701025T020000
RRULE:FREQ=YEARLY;BYMONTH=10;BYDAY=-1SU
END:STANDARD
END:VTIMEZONE
BEGIN:VEVENT
UID:4626108:Event:100381
DTSTAMP:20260424T185453Z
SUMMARY:FREE Launch Event: Living Well Week 2018, Chertsey
DESCRIPTION:Living Well Week 2018, Chertsey\r\n\r\nLiving Well Week co
 nsists of activities, tasters and information sessions focused on heal
 th and wellbeing run by Runnymede Borough Council.\r\nThere is somethi
 ng for everyone, including free exercise sessions, family activities, 
 health checks, advice sessions, lunches and more! The week is running 
 24th to the 30th September with activities from morning to evening and
  a launch event on 22nd September at Abbeyfields Recreation Ground, Ch
 ertsey from 10am to 1pm which is just a short walk from Chertsey train
  station.\r\nFor a full list of what's going on during the week, pleas
 e take a look at our  Living Well Week 2018 booklet here...\r\nWhy n
 ot use this week as a chance to meet new people, try a new activity an
 d join in the fun?\r\nCOST: Most events and activities are FREE \r\nB
 OOKING: You can just turn up and enjoy many of the week's events, othe
 rs can be booked by phone, and most are free of charge - details are i
 n the booklet\r\nMAP\n\nFor more information visit https://networkingi
 nsurrey.co.uk/events/living-well-week-2018-amp-launch-event
DTSTART;TZID=Europe/London:20180922T100000
DTEND;TZID=Europe/London:20180922T130000
CATEGORIES:health, "&amp", wellbeing
LOCATION:Abbeyfield Recreation Ground KT16 8PT
WEBSITE:
URL:
CONTACT:01932 425688
ORGANIZER;CN="Chloe Alexander":https://networkinginsurrey.co.uk/profil
 e/ChloeAlexander
ATTACH;FMTTYPE="image/jpeg":http://storage.ning.com/topology/rest/1.0/
 file/get/2591474393?profile=original
ATTENDEE;ROLE=REQ-PARTICIPANT;PARTSTAT=ACCEPTED;RSVP=TRUE;CN="Chloe Al
 exander":https://networkinginsurrey.co.uk/profile/ChloeAlexander
END:VEVENT
END:VCALENDAR
