BEGIN:VCALENDAR
PRODID:NingEventWidget-v1
VERSION:2.0
METHOD:PUBLISH
BEGIN:VTIMEZONE
TZID:Europe/London
X-LIC-LOCATION:Europe/London
BEGIN:DAYLIGHT
TZOFFSETFROM:+0000
TZOFFSETTO:+0100
TZNAME:BST
DTSTART:19700329T010000
RRULE:FREQ=YEARLY;BYMONTH=3;BYDAY=-1SU
END:DAYLIGHT
BEGIN:STANDARD
TZOFFSETFROM:+0100
TZOFFSETTO:+0000
TZNAME:GMT
DTSTART:19701025T020000
RRULE:FREQ=YEARLY;BYMONTH=10;BYDAY=-1SU
END:STANDARD
END:VTIMEZONE
BEGIN:VEVENT
UID:4626108:Event:97365
DTSTAMP:20260422T132821Z
SUMMARY:FREE Afternoon GDPR Webinar
DESCRIPTION:Bust common GDPR myths - register for our live webinar! \r
 \n\r\nWith so much information out there on the upcoming General Data 
 Protection Regulation it can be difficult to know what you need to foc
 us on to become compliant for the May 25 2018 deadline.\r\nAt Maximize
 r, we want to help you! Register today for our free live online webina
 r:\r\n'Myth Busting GDPR' - Wednesday 25 April 2018 at 4pm BST, with 
 Data Protection expert Anthony Young, from Bridewell Consulting.\r\nAn
 thony has over 20 years' experience in successfully supporting busines
 ses like yours, clarifying confusing data regulations, answering quest
 ions and helping you on your way to GDPR compliancy with confidence.\r
 \nIf you can't listen via your computer you can also dial in via 0800 
 169 0433 and access code 750-676-627. If you can't make it, don't wo
 rry - register anyway and we'll send you over a copy of the recording
  to watch on-demand.\r\nWe look forward to seeing you there!\r\nCOST: 
 FREE\r\nBOOKING: Please CLICK HERE to register for the webinar and/or 
 the recording...\r\n---------------\r\n[Credit: Photo by Chris Adamus
  on Unsplash]\n\nFor more information visit https://networkinginsurr
 ey.co.uk/events/live-webinar-bust-common-gdpr-myths
DTSTART;TZID=Europe/London:20180425T160000
DTEND;TZID=Europe/London:20180425T173000
CATEGORIES:live, webinar
LOCATION:Online via GoToWebinar or listen via your phone
WEBSITE:http://info.maximizer.com/gdpr-myths-webinar
URL:http://info.maximizer.com/gdpr-myths-webinar
CONTACT:
ORGANIZER:Alison Smith
ATTACH;FMTTYPE="image/jpeg":http://storage.ning.com/topology/rest/1.0/
 file/get/2591472087?profile=original
ATTENDEE;ROLE=REQ-PARTICIPANT;PARTSTAT=ACCEPTED;RSVP=TRUE;CN="Harriet 
 Boshier":https://networkinginsurrey.co.uk/profile/HarrietBoshier
END:VEVENT
END:VCALENDAR
