BEGIN:VCALENDAR
PRODID:NingEventWidget-v1
VERSION:2.0
METHOD:PUBLISH
BEGIN:VTIMEZONE
TZID:Europe/London
X-LIC-LOCATION:Europe/London
BEGIN:DAYLIGHT
TZOFFSETFROM:+0000
TZOFFSETTO:+0100
TZNAME:BST
DTSTART:19700329T010000
RRULE:FREQ=YEARLY;BYMONTH=3;BYDAY=-1SU
END:DAYLIGHT
BEGIN:STANDARD
TZOFFSETFROM:+0100
TZOFFSETTO:+0000
TZNAME:GMT
DTSTART:19701025T020000
RRULE:FREQ=YEARLY;BYMONTH=10;BYDAY=-1SU
END:STANDARD
END:VTIMEZONE
BEGIN:VEVENT
UID:4626108:Event:2431
DTSTAMP:20260425T202703Z
SUMMARY:LG Networking Morning, Mercedes Benz World, Weybridge
DESCRIPTION:LG Networking Morning, Mercedes Benz World, Weybridge\n\nT
 here are some exciting changes that we are making to LG Networking sta
 rting from June 2010.\nAs we introduce our new format, initially meeti
 ngs will take place at Mercedes Benz World, Weybridge on a monthly bas
 is. At each of these mixed networking events will be a compelling Spea
 ker, who will be presenting on a subject that will assist you in growi
 ng your business. We are passionate about your success, so it makes se
 nse to offer you opportunities that provide you with new insights and 
 new resources to help you move your business forward. We will still be
  inviting you to promote your business through business card exchange,
  with a 60-second pitch and providing each other with meaningful refer
 rals. We'll be sharing ideas and supporting each other, networking to 
 connect you with others who can help you to develop the success of you
 r business further.\nThis month we have Bronwyn Durand, an On-Demand M
 arketer from Jupiter Jasper (www.jupiterjasper.com) as our guest speak
 er, with her presentation:\nLinked In - how to get the most benefit fr
 om using it in your business.\n Bronwyn Durand’s early foundations w
 ere as an account manager for small advertising agencies where any typ
 e of customer was serviceable and delivering all solutions was the ord
 er of the day. Her career developed through bigger and more formal age
 ncies with global ties and blue chip clientele; as well as clientside 
 as a marketer and in marketing information. Her clients have been from
  most industries, with special emphasis on supporting services for sma
 ll business and business to business. Bronwyn has a particular interes
 t in full service, direct marketing and emarketing.\nCOST: FREE to LG 
 Members , £10 to non members.\nBOOK HERE Please give Catherine Jackso
 n a call on 01932 350 939 to book your place or email catherine@lgnetw
 orking.co.uk or\nVENUE\nMAP & DIRECTIONS Mercedes Benz World shares an
  entrance with Brooklands Museum on the roundabout at the top of Sopwi
 th Drive. Parking is ample and free.\n-------------------------\nLG Ne
 tworking has been created for successful business growth and developme
 nt by NiS Member Catherine Jackson. Our success lies in creating a net
 working organisation based on the principles of business exchange and 
 a positive attitude of mutual support.\n\nFor more information visit h
 ttps://networkinginsurrey.co.uk/events/lg-networking-morning-mercedes
DTSTART;TZID=Europe/London:20100608T110000
DTEND;TZID=Europe/London:20100608T123000
CATEGORIES:morning, weybridge, business_networking, lg_networking
LOCATION:Mercedes Benz World, Weybridge KT13 0SL
WEBSITE:http://lgnetworking.co.uk/
URL:http://lgnetworking.co.uk/
CONTACT:01932 350 939
ORGANIZER:Catherine Jackson
ATTACH;FMTTYPE="image/jpeg":http://storage.ning.com/topology/rest/1.0/
 file/get/2591375239?profile=original
ATTENDEE;ROLE=REQ-PARTICIPANT;PARTSTAT=ACCEPTED;RSVP=TRUE;CN="Keith Gr
 over, NiS Founder":https://networkinginsurrey.co.uk/profile/KeithGrove
 r
END:VEVENT
END:VCALENDAR
